BEGIN:VCALENDAR
VERSION:2.0
PRODID:-//The Kansas City Modern Quilt Guild - ECPv6.15.20//NONSGML v1.0//EN
CALSCALE:GREGORIAN
METHOD:PUBLISH
X-ORIGINAL-URL:https://kcmqg.com
X-WR-CALDESC:Events for The Kansas City Modern Quilt Guild
REFRESH-INTERVAL;VALUE=DURATION:PT1H
X-Robots-Tag:noindex
X-PUBLISHED-TTL:PT1H
BEGIN:VTIMEZONE
TZID:America/Chicago
BEGIN:DAYLIGHT
TZOFFSETFROM:-0600
TZOFFSETTO:-0500
TZNAME:CDT
DTSTART:20250309T080000
END:DAYLIGHT
BEGIN:STANDARD
TZOFFSETFROM:-0500
TZOFFSETTO:-0600
TZNAME:CST
DTSTART:20251102T070000
END:STANDARD
BEGIN:DAYLIGHT
TZOFFSETFROM:-0600
TZOFFSETTO:-0500
TZNAME:CDT
DTSTART:20260308T080000
END:DAYLIGHT
BEGIN:STANDARD
TZOFFSETFROM:-0500
TZOFFSETTO:-0600
TZNAME:CST
DTSTART:20261101T070000
END:STANDARD
BEGIN:DAYLIGHT
TZOFFSETFROM:-0600
TZOFFSETTO:-0500
TZNAME:CDT
DTSTART:20270314T080000
END:DAYLIGHT
BEGIN:STANDARD
TZOFFSETFROM:-0500
TZOFFSETTO:-0600
TZNAME:CST
DTSTART:20271107T070000
END:STANDARD
END:VTIMEZONE
BEGIN:VEVENT
DTSTART;TZID=America/Chicago:20260929T173000
DTEND;TZID=America/Chicago:20260929T193000
DTSTAMP:20260420T211625
CREATED:20260104T015244Z
LAST-MODIFIED:20260104T015244Z
UID:16934-1790703000-1790710200@kcmqg.com
SUMMARY:October Board Meeting
DESCRIPTION:
URL:https://kcmqg.com/event/october-board-meeting/
CATEGORIES:Board Meetings
END:VEVENT
BEGIN:VEVENT
DTSTART;TZID=America/Chicago:20261103T173000
DTEND;TZID=America/Chicago:20261103T193000
DTSTAMP:20260420T211625
CREATED:20260104T015310Z
LAST-MODIFIED:20260104T015310Z
UID:16936-1793727000-1793734200@kcmqg.com
SUMMARY:Board Meeting
DESCRIPTION:
URL:https://kcmqg.com/event/board-meeting-17/
CATEGORIES:Board Meetings
END:VEVENT
BEGIN:VEVENT
DTSTART;TZID=America/Chicago:20261201T173000
DTEND;TZID=America/Chicago:20261201T193000
DTSTAMP:20260420T211625
CREATED:20260104T015339Z
LAST-MODIFIED:20260104T015339Z
UID:16938-1796146200-1796153400@kcmqg.com
SUMMARY:Board Meeting
DESCRIPTION:
URL:https://kcmqg.com/event/board-meeting-18/
CATEGORIES:Board Meetings
END:VEVENT
END:VCALENDAR