BEGIN:VCALENDAR
VERSION:2.0
PRODID:-//The Kansas City Modern Quilt Guild - ECPv6.15.20//NONSGML v1.0//EN
CALSCALE:GREGORIAN
METHOD:PUBLISH
X-ORIGINAL-URL:https://kcmqg.com
X-WR-CALDESC:Events for The Kansas City Modern Quilt Guild
REFRESH-INTERVAL;VALUE=DURATION:PT1H
X-Robots-Tag:noindex
X-PUBLISHED-TTL:PT1H
BEGIN:VTIMEZONE
TZID:America/Chicago
BEGIN:DAYLIGHT
TZOFFSETFROM:-0600
TZOFFSETTO:-0500
TZNAME:CDT
DTSTART:20190310T080000
END:DAYLIGHT
BEGIN:STANDARD
TZOFFSETFROM:-0500
TZOFFSETTO:-0600
TZNAME:CST
DTSTART:20191103T070000
END:STANDARD
BEGIN:DAYLIGHT
TZOFFSETFROM:-0600
TZOFFSETTO:-0500
TZNAME:CDT
DTSTART:20200308T080000
END:DAYLIGHT
BEGIN:STANDARD
TZOFFSETFROM:-0500
TZOFFSETTO:-0600
TZNAME:CST
DTSTART:20201101T070000
END:STANDARD
BEGIN:DAYLIGHT
TZOFFSETFROM:-0600
TZOFFSETTO:-0500
TZNAME:CDT
DTSTART:20210314T080000
END:DAYLIGHT
BEGIN:STANDARD
TZOFFSETFROM:-0500
TZOFFSETTO:-0600
TZNAME:CST
DTSTART:20211107T070000
END:STANDARD
END:VTIMEZONE
BEGIN:VEVENT
DTSTART;TZID=America/Chicago:20200409T183000
DTEND;TZID=America/Chicago:20200409T203000
DTSTAMP:20260424T170527
CREATED:20191218T205815Z
LAST-MODIFIED:20200319T225420Z
UID:4051-1586457000-1586464200@kcmqg.com
SUMMARY:CANCELLED April 2020 Meeting: Hometown Trunk Show
DESCRIPTION:In light of the unfolding COVID-19 pandemic\, we’ve decided to cancel KCMQG events through June. Even though it is the right decision\, it is still tough to share the news. We will work to reschedule the events\, workshops and speakers when conditions allow it. \nMore details about how we’re adjusting guild activities are throughout this newsletter. \nWhile we are all practicing social distancing and staying well\, please join the fun on our guild’s Facebook and Instagram account. We have some extra fun planned for social media over the next weeks and can’t wait to see you there! Don’t forget to add #kcmqgsafelysewcial to your posts! \nLet’s keep the quilty conversations going through this tough time! \nThanks\,\nKCMQG Board
URL:https://kcmqg.com/event/april-2020-meeting/
LOCATION:Johnson County Arts & Heritage Center\, 8788 Metcalf Ave\, Overland Park\, KS\, 66212\, United States
CATEGORIES:Monthly Meetings
END:VEVENT
END:VCALENDAR