BEGIN:VCALENDAR
VERSION:2.0
PRODID:-//The Kansas City Modern Quilt Guild - ECPv6.15.20//NONSGML v1.0//EN
CALSCALE:GREGORIAN
METHOD:PUBLISH
X-WR-CALNAME:The Kansas City Modern Quilt Guild
X-ORIGINAL-URL:https://kcmqg.com
X-WR-CALDESC:Events for The Kansas City Modern Quilt Guild
REFRESH-INTERVAL;VALUE=DURATION:PT1H
X-Robots-Tag:noindex
X-PUBLISHED-TTL:PT1H
BEGIN:VTIMEZONE
TZID:America/Chicago
BEGIN:DAYLIGHT
TZOFFSETFROM:-0600
TZOFFSETTO:-0500
TZNAME:CDT
DTSTART:20200308T080000
END:DAYLIGHT
BEGIN:STANDARD
TZOFFSETFROM:-0500
TZOFFSETTO:-0600
TZNAME:CST
DTSTART:20201101T070000
END:STANDARD
BEGIN:DAYLIGHT
TZOFFSETFROM:-0600
TZOFFSETTO:-0500
TZNAME:CDT
DTSTART:20210314T080000
END:DAYLIGHT
BEGIN:STANDARD
TZOFFSETFROM:-0500
TZOFFSETTO:-0600
TZNAME:CST
DTSTART:20211107T070000
END:STANDARD
BEGIN:DAYLIGHT
TZOFFSETFROM:-0600
TZOFFSETTO:-0500
TZNAME:CDT
DTSTART:20220313T080000
END:DAYLIGHT
BEGIN:STANDARD
TZOFFSETFROM:-0500
TZOFFSETTO:-0600
TZNAME:CST
DTSTART:20221106T070000
END:STANDARD
END:VTIMEZONE
BEGIN:VEVENT
DTSTART;TZID=America/Chicago:20210211T183000
DTEND;TZID=America/Chicago:20210211T203000
DTSTAMP:20260424T034304
CREATED:20210106T202005Z
LAST-MODIFIED:20210106T202005Z
UID:7228-1613068200-1613075400@kcmqg.com
SUMMARY:February 2021 Virtual Meeting: Discovering Glow with Laura Loewen
DESCRIPTION:Laura Loewen will join us remotely to discuss color\, tone\, value and texture in her Discovering Glow presentation. Winner of a First Place at QuiltCon 2020\, Laura has been quilting for 20+ years. She is known for her combination of solids\, prints and woven fabrics. We are delighted she can join us\, and you will be too! \nThis meeting will take place via Zoom – please check the January member newsletter or the KCMQG private Facebook group for the link!
URL:https://kcmqg.com/event/february-2021-virtual-meeting-discovering-glow-with-laura-loewen/
LOCATION:KS
CATEGORIES:Monthly Meetings
ATTACH;FMTTYPE=image/png:https://kcmqg.com/wp-content/uploads/2021/01/DiscoveringGlowLauraLoewen.png
END:VEVENT
END:VCALENDAR