BEGIN:VCALENDAR
VERSION:2.0
PRODID:-//The Kansas City Modern Quilt Guild - ECPv6.15.20//NONSGML v1.0//EN
CALSCALE:GREGORIAN
METHOD:PUBLISH
X-WR-CALNAME:The Kansas City Modern Quilt Guild
X-ORIGINAL-URL:https://kcmqg.com
X-WR-CALDESC:Events for The Kansas City Modern Quilt Guild
REFRESH-INTERVAL;VALUE=DURATION:PT1H
X-Robots-Tag:noindex
X-PUBLISHED-TTL:PT1H
BEGIN:VTIMEZONE
TZID:America/Chicago
BEGIN:DAYLIGHT
TZOFFSETFROM:-0600
TZOFFSETTO:-0500
TZNAME:CDT
DTSTART:20210314T080000
END:DAYLIGHT
BEGIN:STANDARD
TZOFFSETFROM:-0500
TZOFFSETTO:-0600
TZNAME:CST
DTSTART:20211107T070000
END:STANDARD
BEGIN:DAYLIGHT
TZOFFSETFROM:-0600
TZOFFSETTO:-0500
TZNAME:CDT
DTSTART:20220313T080000
END:DAYLIGHT
BEGIN:STANDARD
TZOFFSETFROM:-0500
TZOFFSETTO:-0600
TZNAME:CST
DTSTART:20221106T070000
END:STANDARD
BEGIN:DAYLIGHT
TZOFFSETFROM:-0600
TZOFFSETTO:-0500
TZNAME:CDT
DTSTART:20230312T080000
END:DAYLIGHT
BEGIN:STANDARD
TZOFFSETFROM:-0500
TZOFFSETTO:-0600
TZNAME:CST
DTSTART:20231105T070000
END:STANDARD
END:VTIMEZONE
BEGIN:VEVENT
DTSTART;TZID=America/Chicago:20220908T183000
DTEND;TZID=America/Chicago:20220908T203000
DTSTAMP:20260423T035336
CREATED:20220615T164415Z
LAST-MODIFIED:20220615T164415Z
UID:9979-1662661800-1662669000@kcmqg.com
SUMMARY:September 2022 Meeting: David Taylor
DESCRIPTION:Have you ever studied the work of David Taylor of Ft. Collins\, Colorado? \n \nDavid was born in Peterborough\, New Hampshire\, and currently resides in Fort Collins\, Colorado. He has been the recipient of the Fairfield Master Award for Contemporary Quilting from the International Quilt Association (2006\, 2014)\, the Brother Wall Machine Workmanship Award from the American Quilters Society (2008)\, and a two-time Best of Show winner at IQA’s Spring Festival in Chicago (2007\, 2008)\, among others. His art quilts hang in numerous private collections worldwide. \nHe is an amazing artist and an expert at appliqué!  David’s quilts are all award winners!  Join us for a fabulous array of artistry at its best and meet David for yourself! \nThursday\, September 8\, 2022 \nThis is a hybrid meeting that can be attended in person at Overland Park First Assembly of God Church\, or via Zoom. If attending via Zoom\, you can find the meeting link in the KCMQG Newsletter or Facebook group.
URL:https://kcmqg.com/event/september-2022-meeting-david-taylor/
LOCATION:Overland Park First Assembly of God Church\, 7700 W. 75th St\, Overland Park\, KS\, United States
CATEGORIES:Monthly Meetings
ATTACH;FMTTYPE=image/png:https://kcmqg.com/wp-content/uploads/2022/06/DavidTaylor.png
END:VEVENT
END:VCALENDAR