BEGIN:VCALENDAR
VERSION:2.0
PRODID:-//The Kansas City Modern Quilt Guild - ECPv6.15.20//NONSGML v1.0//EN
CALSCALE:GREGORIAN
METHOD:PUBLISH
X-WR-CALNAME:The Kansas City Modern Quilt Guild
X-ORIGINAL-URL:https://kcmqg.com
X-WR-CALDESC:Events for The Kansas City Modern Quilt Guild
REFRESH-INTERVAL;VALUE=DURATION:PT1H
X-Robots-Tag:noindex
X-PUBLISHED-TTL:PT1H
BEGIN:VTIMEZONE
TZID:America/Chicago
BEGIN:DAYLIGHT
TZOFFSETFROM:-0600
TZOFFSETTO:-0500
TZNAME:CDT
DTSTART:20220313T080000
END:DAYLIGHT
BEGIN:STANDARD
TZOFFSETFROM:-0500
TZOFFSETTO:-0600
TZNAME:CST
DTSTART:20221106T070000
END:STANDARD
BEGIN:DAYLIGHT
TZOFFSETFROM:-0600
TZOFFSETTO:-0500
TZNAME:CDT
DTSTART:20230312T080000
END:DAYLIGHT
BEGIN:STANDARD
TZOFFSETFROM:-0500
TZOFFSETTO:-0600
TZNAME:CST
DTSTART:20231105T070000
END:STANDARD
BEGIN:DAYLIGHT
TZOFFSETFROM:-0600
TZOFFSETTO:-0500
TZNAME:CDT
DTSTART:20240310T080000
END:DAYLIGHT
BEGIN:STANDARD
TZOFFSETFROM:-0500
TZOFFSETTO:-0600
TZNAME:CST
DTSTART:20241103T070000
END:STANDARD
END:VTIMEZONE
BEGIN:VEVENT
DTSTART;TZID=America/Chicago:20230608T183000
DTEND;TZID=America/Chicago:20230608T203000
DTSTAMP:20260422T133713
CREATED:20230501T170354Z
LAST-MODIFIED:20230501T170729Z
UID:11789-1686249000-1686256200@kcmqg.com
SUMMARY:June 2023 Meeting: Community
DESCRIPTION:June’s meeting is all about our quilting community. We’re calling this one “Firsts and Favorites”. Please bring your first quilt (or an early in your quilt journey quilt) and your current favorite quilt. We’ll break out into smaller groups and enjoy chatting about our quilts and getting to know one another better. You’ll love this opportunity to spend time with fellow guild members and leave with lots of inspiration!
URL:https://kcmqg.com/event/june-2023-meeting-community/
LOCATION:Merriam Community Center\, 6040 Slater St\, Merriam\, KS\, 66202\, United States
CATEGORIES:Monthly Meetings
END:VEVENT
END:VCALENDAR