BEGIN:VCALENDAR
VERSION:2.0
PRODID:-//The Kansas City Modern Quilt Guild - ECPv6.15.20//NONSGML v1.0//EN
CALSCALE:GREGORIAN
METHOD:PUBLISH
X-WR-CALNAME:The Kansas City Modern Quilt Guild
X-ORIGINAL-URL:https://kcmqg.com
X-WR-CALDESC:Events for The Kansas City Modern Quilt Guild
REFRESH-INTERVAL;VALUE=DURATION:PT1H
X-Robots-Tag:noindex
X-PUBLISHED-TTL:PT1H
BEGIN:VTIMEZONE
TZID:America/Chicago
BEGIN:DAYLIGHT
TZOFFSETFROM:-0600
TZOFFSETTO:-0500
TZNAME:CDT
DTSTART:20230312T080000
END:DAYLIGHT
BEGIN:STANDARD
TZOFFSETFROM:-0500
TZOFFSETTO:-0600
TZNAME:CST
DTSTART:20231105T070000
END:STANDARD
BEGIN:DAYLIGHT
TZOFFSETFROM:-0600
TZOFFSETTO:-0500
TZNAME:CDT
DTSTART:20240310T080000
END:DAYLIGHT
BEGIN:STANDARD
TZOFFSETFROM:-0500
TZOFFSETTO:-0600
TZNAME:CST
DTSTART:20241103T070000
END:STANDARD
BEGIN:DAYLIGHT
TZOFFSETFROM:-0600
TZOFFSETTO:-0500
TZNAME:CDT
DTSTART:20250309T080000
END:DAYLIGHT
BEGIN:STANDARD
TZOFFSETFROM:-0500
TZOFFSETTO:-0600
TZNAME:CST
DTSTART:20251102T070000
END:STANDARD
END:VTIMEZONE
BEGIN:VEVENT
DTSTART;TZID=America/Chicago:20240111T183000
DTEND;TZID=America/Chicago:20240111T203000
DTSTAMP:20260422T032216
CREATED:20231106T154406Z
LAST-MODIFIED:20231217T193316Z
UID:12523-1704997800-1705005000@kcmqg.com
SUMMARY:January 2024 Meeting: Becky Blades - Start More Than You Can Finish
DESCRIPTION:On January 11th\, we will begin Looking for More in 2024 with Becky Blades. She believes that creative initiative is both the kindling and blaze of the creative process. Becky calls it stARTistry® — the art of beginning. STARTISTRY® can be learned\, practiced\, and mastered. It may even be contagious.  We will find out! \nIf you wish to learn more about Becky Blades prior to our January meeting\, visit her webpage: www.beckyblades.com \nI cannot wait to start more than I can finish in 2024. How about you? \nKelly Lautenbach – VP of Programming
URL:https://kcmqg.com/event/january-2024-meeting-becky-blades-start-more-than-you-can-finish/
LOCATION:Merriam Community Center\, 6040 Slater St\, Merriam\, KS\, 66202\, United States
CATEGORIES:Monthly Meetings
ATTACH;FMTTYPE=image/png:https://kcmqg.com/wp-content/uploads/2023/11/BeckyBlades.png
END:VEVENT
END:VCALENDAR