BEGIN:VCALENDAR
VERSION:2.0
PRODID:-//The Kansas City Modern Quilt Guild - ECPv6.15.20//NONSGML v1.0//EN
CALSCALE:GREGORIAN
METHOD:PUBLISH
X-WR-CALNAME:The Kansas City Modern Quilt Guild
X-ORIGINAL-URL:https://kcmqg.com
X-WR-CALDESC:Events for The Kansas City Modern Quilt Guild
REFRESH-INTERVAL;VALUE=DURATION:PT1H
X-Robots-Tag:noindex
X-PUBLISHED-TTL:PT1H
BEGIN:VTIMEZONE
TZID:America/Chicago
BEGIN:DAYLIGHT
TZOFFSETFROM:-0600
TZOFFSETTO:-0500
TZNAME:CDT
DTSTART:20230312T080000
END:DAYLIGHT
BEGIN:STANDARD
TZOFFSETFROM:-0500
TZOFFSETTO:-0600
TZNAME:CST
DTSTART:20231105T070000
END:STANDARD
BEGIN:DAYLIGHT
TZOFFSETFROM:-0600
TZOFFSETTO:-0500
TZNAME:CDT
DTSTART:20240310T080000
END:DAYLIGHT
BEGIN:STANDARD
TZOFFSETFROM:-0500
TZOFFSETTO:-0600
TZNAME:CST
DTSTART:20241103T070000
END:STANDARD
BEGIN:DAYLIGHT
TZOFFSETFROM:-0600
TZOFFSETTO:-0500
TZNAME:CDT
DTSTART:20250309T080000
END:DAYLIGHT
BEGIN:STANDARD
TZOFFSETFROM:-0500
TZOFFSETTO:-0600
TZNAME:CST
DTSTART:20251102T070000
END:STANDARD
END:VTIMEZONE
BEGIN:VEVENT
DTSTART;TZID=America/Chicago:20240822T183000
DTEND;TZID=America/Chicago:20240822T203000
DTSTAMP:20260421T170716
CREATED:20231106T191842Z
LAST-MODIFIED:20240717T230921Z
UID:12560-1724351400-1724358600@kcmqg.com
SUMMARY:August 2024 Meeting: Anna Maria Horner
DESCRIPTION:The one and only ANNA MARIA HORNER is coming to the KCMQG! \n*** THURSDAY AUGUST 22 @ 6:30pm PLEASE NOTE DATE CHANGE!!! *** \nFine artist\, fabric designer\, quilter… all words used to try to describe the incomparable Anna Maria Horner. \nJoin us for an amazing guild meeting where we will enjoy Patchwork Pathways: An auto-biographical presentation of Anna Maria’s quilts from the beginning. \nYou’ll revel in the opportunity to see Anna Maria’s quilts up close and personal and leave inspired to create a beautiful and artful world. \nScroll Anna Maria’s amazingness on Instagram @annamariahorner @craftsouth and @conservatorycraft
URL:https://kcmqg.com/event/august-2024-meeting-anna-maria-horner/
LOCATION:Merriam Community Center\, 6040 Slater St\, Merriam\, KS\, 66202\, United States
CATEGORIES:Monthly Meetings
ATTACH;FMTTYPE=image/png:https://kcmqg.com/wp-content/uploads/2024/05/amh_folkflower.png
END:VEVENT
END:VCALENDAR