BEGIN:VCALENDAR
VERSION:2.0
PRODID:-//The Kansas City Modern Quilt Guild - ECPv6.15.20//NONSGML v1.0//EN
CALSCALE:GREGORIAN
METHOD:PUBLISH
X-ORIGINAL-URL:https://kcmqg.com
X-WR-CALDESC:Events for The Kansas City Modern Quilt Guild
REFRESH-INTERVAL;VALUE=DURATION:PT1H
X-Robots-Tag:noindex
X-PUBLISHED-TTL:PT1H
BEGIN:VTIMEZONE
TZID:America/Chicago
BEGIN:DAYLIGHT
TZOFFSETFROM:-0600
TZOFFSETTO:-0500
TZNAME:CDT
DTSTART:20190310T080000
END:DAYLIGHT
BEGIN:STANDARD
TZOFFSETFROM:-0500
TZOFFSETTO:-0600
TZNAME:CST
DTSTART:20191103T070000
END:STANDARD
BEGIN:DAYLIGHT
TZOFFSETFROM:-0600
TZOFFSETTO:-0500
TZNAME:CDT
DTSTART:20200308T080000
END:DAYLIGHT
BEGIN:STANDARD
TZOFFSETFROM:-0500
TZOFFSETTO:-0600
TZNAME:CST
DTSTART:20201101T070000
END:STANDARD
BEGIN:DAYLIGHT
TZOFFSETFROM:-0600
TZOFFSETTO:-0500
TZNAME:CDT
DTSTART:20210314T080000
END:DAYLIGHT
BEGIN:STANDARD
TZOFFSETFROM:-0500
TZOFFSETTO:-0600
TZNAME:CST
DTSTART:20211107T070000
END:STANDARD
END:VTIMEZONE
BEGIN:VEVENT
DTSTART;TZID=America/Chicago:20200109T183000
DTEND;TZID=America/Chicago:20200109T203000
DTSTAMP:20260424T222132
CREATED:20191015T234443Z
LAST-MODIFIED:20191217T165452Z
UID:3258-1578594600-1578601800@kcmqg.com
SUMMARY:January 2020 Meeting: 10 Year Birthday Party!
DESCRIPTION:Please join us as we celebrate our 10th birthday! \nThere will be lots of food\, fun and frivolity as we celebrate a decade of the KCMQG. Two special editions of show and tell- a walk through our member’s favorite quilts of the last decade and another highlighting projects completed as a result of taking a class with the guild or answering a challenge issued by the guild. The evening will be full of gifts and prizes as we celebrate. It may be the guild’s birthday but the gifts and prizes are for you! The Birthday Bash Box drawing will occur and all those tickets you’ve earned throughout 2019 just might result in you taking home a big box of birthday happiness! All 2019 or 2020 members will be eligible to participate in all the prize activities and there will be a special drawing held for our visitors. \nSee you there!
URL:https://kcmqg.com/event/january-2020-meeting-birthday-party/
LOCATION:Johnson County Arts & Heritage Center\, 8788 Metcalf Ave\, Overland Park\, KS\, 66212\, United States
CATEGORIES:Monthly Meetings
END:VEVENT
END:VCALENDAR