BEGIN:VCALENDAR
VERSION:2.0
PRODID:-//The Kansas City Modern Quilt Guild - ECPv6.15.20//NONSGML v1.0//EN
CALSCALE:GREGORIAN
METHOD:PUBLISH
X-WR-CALNAME:The Kansas City Modern Quilt Guild
X-ORIGINAL-URL:https://kcmqg.com
X-WR-CALDESC:Events for The Kansas City Modern Quilt Guild
REFRESH-INTERVAL;VALUE=DURATION:PT1H
X-Robots-Tag:noindex
X-PUBLISHED-TTL:PT1H
BEGIN:VTIMEZONE
TZID:America/Chicago
BEGIN:DAYLIGHT
TZOFFSETFROM:-0600
TZOFFSETTO:-0500
TZNAME:CDT
DTSTART:20190310T080000
END:DAYLIGHT
BEGIN:STANDARD
TZOFFSETFROM:-0500
TZOFFSETTO:-0600
TZNAME:CST
DTSTART:20191103T070000
END:STANDARD
BEGIN:DAYLIGHT
TZOFFSETFROM:-0600
TZOFFSETTO:-0500
TZNAME:CDT
DTSTART:20200308T080000
END:DAYLIGHT
BEGIN:STANDARD
TZOFFSETFROM:-0500
TZOFFSETTO:-0600
TZNAME:CST
DTSTART:20201101T070000
END:STANDARD
BEGIN:DAYLIGHT
TZOFFSETFROM:-0600
TZOFFSETTO:-0500
TZNAME:CDT
DTSTART:20210314T080000
END:DAYLIGHT
BEGIN:STANDARD
TZOFFSETFROM:-0500
TZOFFSETTO:-0600
TZNAME:CST
DTSTART:20211107T070000
END:STANDARD
END:VTIMEZONE
BEGIN:VEVENT
DTSTART;TZID=America/Chicago:20200213T183000
DTEND;TZID=America/Chicago:20200213T203000
DTSTAMP:20260424T210043
CREATED:20191216T212826Z
LAST-MODIFIED:20200120T165638Z
UID:4024-1581618600-1581625800@kcmqg.com
SUMMARY:February 2020 Meeting: Betsy Blodgett
DESCRIPTION:The Kansas City Modern Quilt Guild is excited to announce that Betsy Blodgett will be our guest speaker at our February guild meeting. Betsy will be discussing her interests of quilting and fashion sewing\, exploring how the two intersect in the modern fashion world and how you can combine them in your own sewing world. \nBetsy Blodgett’s early interest in fashion and textiles led to a career in the sewing industry\, which began when she opened bon bon atelier\, a fabric store and sewing studio. She then focused her attention on the design side of the business working with pattern companies Indygo Junction and The Sewing Workshop. In 2016 she launched her podcast Hello Atelier\, a show that explores what it means to be a working artist. Traveling for the podcast\, she found creative inspiration meeting artists and exploring new communities and decided that she needed to bring that experience to the world. Hello Voyager was launched in 2018 as a textile experience production company. Home to the Grand Textile Tours\, which take design-loving guests all over the world\, Hello Voyager is dedicated to creating one-of-a-kind travel experiences that guests can tap into as inspiration in their own studios. Learn more about the 2020 lineup of tours which include Italy\, Scotland\, England & Sweden.
URL:https://kcmqg.com/event/february-2020-meeting-betsy-bloggett/
LOCATION:Johnson County Arts & Heritage Center\, 8788 Metcalf Ave\, Overland Park\, KS\, 66212\, United States
CATEGORIES:Monthly Meetings
ATTACH;FMTTYPE=image/jpeg:https://kcmqg.com/wp-content/uploads/2019/12/81698603_10107271104550159_4186002292073299968_n.jpg
END:VEVENT
END:VCALENDAR