BEGIN:VCALENDAR
VERSION:2.0
PRODID:-//The Kansas City Modern Quilt Guild - ECPv6.15.20//NONSGML v1.0//EN
CALSCALE:GREGORIAN
METHOD:PUBLISH
X-ORIGINAL-URL:https://kcmqg.com
X-WR-CALDESC:Events for The Kansas City Modern Quilt Guild
REFRESH-INTERVAL;VALUE=DURATION:PT1H
X-Robots-Tag:noindex
X-PUBLISHED-TTL:PT1H
BEGIN:VTIMEZONE
TZID:America/Chicago
BEGIN:DAYLIGHT
TZOFFSETFROM:-0600
TZOFFSETTO:-0500
TZNAME:CDT
DTSTART:20190310T080000
END:DAYLIGHT
BEGIN:STANDARD
TZOFFSETFROM:-0500
TZOFFSETTO:-0600
TZNAME:CST
DTSTART:20191103T070000
END:STANDARD
BEGIN:DAYLIGHT
TZOFFSETFROM:-0600
TZOFFSETTO:-0500
TZNAME:CDT
DTSTART:20200308T080000
END:DAYLIGHT
BEGIN:STANDARD
TZOFFSETFROM:-0500
TZOFFSETTO:-0600
TZNAME:CST
DTSTART:20201101T070000
END:STANDARD
BEGIN:DAYLIGHT
TZOFFSETFROM:-0600
TZOFFSETTO:-0500
TZNAME:CDT
DTSTART:20210314T080000
END:DAYLIGHT
BEGIN:STANDARD
TZOFFSETFROM:-0500
TZOFFSETTO:-0600
TZNAME:CST
DTSTART:20211107T070000
END:STANDARD
END:VTIMEZONE
BEGIN:VEVENT
DTSTART;TZID=America/Chicago:20200312T183000
DTEND;TZID=America/Chicago:20200312T203000
DTSTAMP:20260424T193832
CREATED:20191218T205623Z
LAST-MODIFIED:20200220T032104Z
UID:4049-1584037800-1584045000@kcmqg.com
SUMMARY:March 2020 Meeting: Weeks Ringle
DESCRIPTION:Due to unfortunate circumstances\, Weeks isn’t able to join us. Her husband and co-creator\, Bill Kerr\, is joining us instead. Bill is an equally expert quilter and instructor. We are excited to learn from him and are sending Weeks wishes for speedy healing.\n\n\nThe Kansas City Modern Quilt Guild is excited to welcome Weeks Ringle as our guest speaker for our March meeting. Weeks Ringle and Bill Kerr are celebrating their 20th year as professional quiltmakers and co-founders of Modern Quilt Studio\, a design studio in Oak Park\, Illinois. Bill and Weeks are pioneers of the Modern Quilt Movement\, having written the first book on Modern Quilting.\n\n\n\n\n\nModern Quilt Studio publishes Modern Quilts Illustrated\, the first ever magazine exclusively dedicated to modern quilting. Weeks and Bill are also authors of six books.\n\n\n\n\n\nTheir work has been featured widely in the international press and Weeks and Bill have taught extensively throughout the US\, Canada\, Japan (in Japanese)\, England and France (in French).\n\n\n\n\n\nWeeks will be speaking at our March meeting on “Quilts Made Modern” – What makes a quilt modern? Using examples from our book Quilts Made Modern as well as other quilts\, learn what makes a quilt modern and how you might include modern techniques and design approaches in your next project.\n\n\n\n\n\nIn addition\, KCMQG will offer THREE workshops with Weeks on March 13 & 14. Please see our “Weekend With Weeks” Event for full details.\n\n\n\n\n\nMembers enjoy monthly meetings at no additional charge. Visitors are always welcome at the KCMQG. There will be a $10 visitor fee for this national speaker evening. To join the KCMQG please click here for additional information.
URL:https://kcmqg.com/event/march-2020-meeting-weeks-ringle/
LOCATION:Johnson County Arts & Heritage Center\, 8788 Metcalf Ave\, Overland Park\, KS\, 66212\, United States
CATEGORIES:Monthly Meetings
ATTACH;FMTTYPE=image/png:https://kcmqg.com/wp-content/uploads/2019/12/Screen-Shot-2020-01-15-at-8.02.25-PM.png
END:VEVENT
END:VCALENDAR