BEGIN:VCALENDAR
VERSION:2.0
PRODID:-//The Kansas City Modern Quilt Guild - ECPv6.15.20//NONSGML v1.0//EN
CALSCALE:GREGORIAN
METHOD:PUBLISH
X-WR-CALNAME:The Kansas City Modern Quilt Guild
X-ORIGINAL-URL:https://kcmqg.com
X-WR-CALDESC:Events for The Kansas City Modern Quilt Guild
REFRESH-INTERVAL;VALUE=DURATION:PT1H
X-Robots-Tag:noindex
X-PUBLISHED-TTL:PT1H
BEGIN:VTIMEZONE
TZID:America/Chicago
BEGIN:DAYLIGHT
TZOFFSETFROM:-0600
TZOFFSETTO:-0500
TZNAME:CDT
DTSTART:20200308T080000
END:DAYLIGHT
BEGIN:STANDARD
TZOFFSETFROM:-0500
TZOFFSETTO:-0600
TZNAME:CST
DTSTART:20201101T070000
END:STANDARD
BEGIN:DAYLIGHT
TZOFFSETFROM:-0600
TZOFFSETTO:-0500
TZNAME:CDT
DTSTART:20210314T080000
END:DAYLIGHT
BEGIN:STANDARD
TZOFFSETFROM:-0500
TZOFFSETTO:-0600
TZNAME:CST
DTSTART:20211107T070000
END:STANDARD
BEGIN:DAYLIGHT
TZOFFSETFROM:-0600
TZOFFSETTO:-0500
TZNAME:CDT
DTSTART:20220313T080000
END:DAYLIGHT
BEGIN:STANDARD
TZOFFSETFROM:-0500
TZOFFSETTO:-0600
TZNAME:CST
DTSTART:20221106T070000
END:STANDARD
END:VTIMEZONE
BEGIN:VEVENT
DTSTART;TZID=America/Chicago:20210513T183000
DTEND;TZID=America/Chicago:20210513T203000
DTSTAMP:20260424T010931
CREATED:20210408T164759Z
LAST-MODIFIED:20210408T164759Z
UID:7930-1620930600-1620937800@kcmqg.com
SUMMARY:May 2021 Virtual Meeting: Tessa Williams\, Scholarship Presentation
DESCRIPTION:Tessa Williams\, one of our KCMQG stars\, will be presenting her scholarship award work. \nTessa used the funding from our Guild to study pattern design. She will be sharing how to design patterns and tips and tricks for all of us. \nEvery scholarship recipient brings back to the Guild membership new and exciting updates and we are thrilled to welcome Tessa in May. \nThis meeting will take place via Zoom – please check the March member newsletter or the KCMQG private Facebook group for the link!
URL:https://kcmqg.com/event/may-2021-virtual-meeting-tessa-williams-scholarship-presentation/
LOCATION:KS
CATEGORIES:Monthly Meetings
ATTACH;FMTTYPE=image/png:https://kcmqg.com/wp-content/uploads/2021/04/TessaWilliams_Scholarship.png
END:VEVENT
END:VCALENDAR