BEGIN:VCALENDAR
VERSION:2.0
PRODID:-//The Kansas City Modern Quilt Guild - ECPv6.15.20//NONSGML v1.0//EN
CALSCALE:GREGORIAN
METHOD:PUBLISH
X-ORIGINAL-URL:https://kcmqg.com
X-WR-CALDESC:Events for The Kansas City Modern Quilt Guild
REFRESH-INTERVAL;VALUE=DURATION:PT1H
X-Robots-Tag:noindex
X-PUBLISHED-TTL:PT1H
BEGIN:VTIMEZONE
TZID:America/Chicago
BEGIN:DAYLIGHT
TZOFFSETFROM:-0600
TZOFFSETTO:-0500
TZNAME:CDT
DTSTART:20210314T080000
END:DAYLIGHT
BEGIN:STANDARD
TZOFFSETFROM:-0500
TZOFFSETTO:-0600
TZNAME:CST
DTSTART:20211107T070000
END:STANDARD
BEGIN:DAYLIGHT
TZOFFSETFROM:-0600
TZOFFSETTO:-0500
TZNAME:CDT
DTSTART:20220313T080000
END:DAYLIGHT
BEGIN:STANDARD
TZOFFSETFROM:-0500
TZOFFSETTO:-0600
TZNAME:CST
DTSTART:20221106T070000
END:STANDARD
BEGIN:DAYLIGHT
TZOFFSETFROM:-0600
TZOFFSETTO:-0500
TZNAME:CDT
DTSTART:20230312T080000
END:DAYLIGHT
BEGIN:STANDARD
TZOFFSETFROM:-0500
TZOFFSETTO:-0600
TZNAME:CST
DTSTART:20231105T070000
END:STANDARD
END:VTIMEZONE
BEGIN:VEVENT
DTSTART;TZID=America/Chicago:20220210T183000
DTEND;TZID=America/Chicago:20220210T200000
DTSTAMP:20260423T153132
CREATED:20220201T213937Z
LAST-MODIFIED:20220201T214801Z
UID:9194-1644517800-1644523200@kcmqg.com
SUMMARY:February 2022 Meeting: Chris Jacobs
DESCRIPTION:At the February meeting\, award-winning T-shirt quilt maker Chris Jacobs will be showing and telling all she knows about T-shirt quilts. She will start with basic materials and supplies\, share several projects illustrating the versatility of this fabric medium and encourage us to imagine a variety of design choices from the tried-and-true traditional square to a less structured modern design. You will walk away from this lecture deciding what kind of project you will tackle at the March workshop. Start collecting your shirts now for an exciting and fun project. \nThis will be a hybrid meeting and you may join in person at Overland Park First Assembly of God Church or via Zoom. Please check the January 2022 newsletter or Facebook group for the Zoom link. \nSee you there!
URL:https://kcmqg.com/event/february-2022-meeting-chris-jacobs/
LOCATION:Overland Park First Assembly of God Church\, 7700 W. 75th St\, Overland Park\, KS\, United States
CATEGORIES:Monthly Meetings
ATTACH;FMTTYPE=image/png:https://kcmqg.com/wp-content/uploads/2022/02/Chris-Jacobs.png
END:VEVENT
END:VCALENDAR