BEGIN:VCALENDAR
VERSION:2.0
PRODID:-//The Kansas City Modern Quilt Guild - ECPv6.15.20//NONSGML v1.0//EN
CALSCALE:GREGORIAN
METHOD:PUBLISH
X-WR-CALNAME:The Kansas City Modern Quilt Guild
X-ORIGINAL-URL:https://kcmqg.com
X-WR-CALDESC:Events for The Kansas City Modern Quilt Guild
REFRESH-INTERVAL;VALUE=DURATION:PT1H
X-Robots-Tag:noindex
X-PUBLISHED-TTL:PT1H
BEGIN:VTIMEZONE
TZID:America/Chicago
BEGIN:DAYLIGHT
TZOFFSETFROM:-0600
TZOFFSETTO:-0500
TZNAME:CDT
DTSTART:20210314T080000
END:DAYLIGHT
BEGIN:STANDARD
TZOFFSETFROM:-0500
TZOFFSETTO:-0600
TZNAME:CST
DTSTART:20211107T070000
END:STANDARD
BEGIN:DAYLIGHT
TZOFFSETFROM:-0600
TZOFFSETTO:-0500
TZNAME:CDT
DTSTART:20220313T080000
END:DAYLIGHT
BEGIN:STANDARD
TZOFFSETFROM:-0500
TZOFFSETTO:-0600
TZNAME:CST
DTSTART:20221106T070000
END:STANDARD
BEGIN:DAYLIGHT
TZOFFSETFROM:-0600
TZOFFSETTO:-0500
TZNAME:CDT
DTSTART:20230312T080000
END:DAYLIGHT
BEGIN:STANDARD
TZOFFSETFROM:-0500
TZOFFSETTO:-0600
TZNAME:CST
DTSTART:20231105T070000
END:STANDARD
END:VTIMEZONE
BEGIN:VEVENT
DTSTART;TZID=America/Chicago:20220310T183000
DTEND;TZID=America/Chicago:20220310T203000
DTSTAMP:20260423T141510
CREATED:20220201T223426Z
LAST-MODIFIED:20220216T174407Z
UID:9224-1646937000-1646944200@kcmqg.com
SUMMARY:March 2022 Meeting: A Look Ahead
DESCRIPTION:Fresh from QuiltCon in Phoenix\, KCMQG quilters whose work was featured at that signature annual event will present and discuss their work. All attendees from QuiltCon will have the opportunity to discuss trends they observed as well. \nOur guild is so fortunate to have numerous award winning quilts that have been judged throughout 2021 at various venues. Our KCMQG quilters will be discussing their work\, awards and tips on submissions. \nPatty Simmons’ “Fireball” will be on display at QuiltCon in Phoenix. Photo courtesy of Patty Simmons. \nThis is a hybrid meeting that can be attended in person at Overland Park First Assembly of God Church\, or via Zoom. If attending via Zoom\, you can find the meeting link in the KCMQG Newsletter or Facebook group.
URL:https://kcmqg.com/event/march-2022-meeting-quiltcon-recognition-and-review/
LOCATION:Overland Park First Assembly of God Church\, 7700 W. 75th St\, Overland Park\, KS\, United States
CATEGORIES:Monthly Meetings
ATTACH;FMTTYPE=image/png:https://kcmqg.com/wp-content/uploads/2022/02/Patty-Simmons-QC-quilt-896x1024-1.png
END:VEVENT
END:VCALENDAR