BEGIN:VCALENDAR
VERSION:2.0
PRODID:-//The Kansas City Modern Quilt Guild - ECPv6.15.20//NONSGML v1.0//EN
CALSCALE:GREGORIAN
METHOD:PUBLISH
X-WR-CALNAME:The Kansas City Modern Quilt Guild
X-ORIGINAL-URL:https://kcmqg.com
X-WR-CALDESC:Events for The Kansas City Modern Quilt Guild
REFRESH-INTERVAL;VALUE=DURATION:PT1H
X-Robots-Tag:noindex
X-PUBLISHED-TTL:PT1H
BEGIN:VTIMEZONE
TZID:America/Chicago
BEGIN:DAYLIGHT
TZOFFSETFROM:-0600
TZOFFSETTO:-0500
TZNAME:CDT
DTSTART:20210314T080000
END:DAYLIGHT
BEGIN:STANDARD
TZOFFSETFROM:-0500
TZOFFSETTO:-0600
TZNAME:CST
DTSTART:20211107T070000
END:STANDARD
BEGIN:DAYLIGHT
TZOFFSETFROM:-0600
TZOFFSETTO:-0500
TZNAME:CDT
DTSTART:20220313T080000
END:DAYLIGHT
BEGIN:STANDARD
TZOFFSETFROM:-0500
TZOFFSETTO:-0600
TZNAME:CST
DTSTART:20221106T070000
END:STANDARD
BEGIN:DAYLIGHT
TZOFFSETFROM:-0600
TZOFFSETTO:-0500
TZNAME:CDT
DTSTART:20230312T080000
END:DAYLIGHT
BEGIN:STANDARD
TZOFFSETFROM:-0500
TZOFFSETTO:-0600
TZNAME:CST
DTSTART:20231105T070000
END:STANDARD
END:VTIMEZONE
BEGIN:VEVENT
DTSTART;TZID=America/Chicago:20220414T183000
DTEND;TZID=America/Chicago:20220414T203000
DTSTAMP:20260423T124904
CREATED:20220216T172422Z
LAST-MODIFIED:20220216T172422Z
UID:9359-1649961000-1649968200@kcmqg.com
SUMMARY:April 2022 Meeting: Hometown Trunk Show
DESCRIPTION:Our April Guild Meeting features two of our multi-talented members.  Sammie Messick and Lynn Pias will be showcasing their Hometown Trunk Show!  This promises to be full of laughter\, fun and a trip showcasing every color in the rainbow.  We have all admired the enormous amount of work that Sammie posts to our Facebook page weekly and wonder how does she do it?  We’ll find out!  Lynn Pias\, a fiber artist and exquisite quilter will move beyond the pieced quilt blocks and show us all what a little imagination can produce. This promises to be a terrific evening! \nThis is a hybrid meeting that can be attended in person at Overland Park First Assembly of God Church\, or via Zoom. If attending via Zoom\, you can find the meeting link in the KCMQG Newsletter or Facebook group.
URL:https://kcmqg.com/event/april-2022-meeting-hometown-trunk-show/
LOCATION:Overland Park First Assembly of God Church\, 7700 W. 75th St\, Overland Park\, KS\, United States
CATEGORIES:Monthly Meetings
ATTACH;FMTTYPE=image/png:https://kcmqg.com/wp-content/uploads/2022/02/homwtowntrunkshow.png
END:VEVENT
END:VCALENDAR