BEGIN:VCALENDAR
VERSION:2.0
PRODID:-//The Kansas City Modern Quilt Guild - ECPv6.15.20//NONSGML v1.0//EN
CALSCALE:GREGORIAN
METHOD:PUBLISH
X-ORIGINAL-URL:https://kcmqg.com
X-WR-CALDESC:Events for The Kansas City Modern Quilt Guild
REFRESH-INTERVAL;VALUE=DURATION:PT1H
X-Robots-Tag:noindex
X-PUBLISHED-TTL:PT1H
BEGIN:VTIMEZONE
TZID:America/Chicago
BEGIN:DAYLIGHT
TZOFFSETFROM:-0600
TZOFFSETTO:-0500
TZNAME:CDT
DTSTART:20210314T080000
END:DAYLIGHT
BEGIN:STANDARD
TZOFFSETFROM:-0500
TZOFFSETTO:-0600
TZNAME:CST
DTSTART:20211107T070000
END:STANDARD
BEGIN:DAYLIGHT
TZOFFSETFROM:-0600
TZOFFSETTO:-0500
TZNAME:CDT
DTSTART:20220313T080000
END:DAYLIGHT
BEGIN:STANDARD
TZOFFSETFROM:-0500
TZOFFSETTO:-0600
TZNAME:CST
DTSTART:20221106T070000
END:STANDARD
BEGIN:DAYLIGHT
TZOFFSETFROM:-0600
TZOFFSETTO:-0500
TZNAME:CDT
DTSTART:20230312T080000
END:DAYLIGHT
BEGIN:STANDARD
TZOFFSETFROM:-0500
TZOFFSETTO:-0600
TZNAME:CST
DTSTART:20231105T070000
END:STANDARD
END:VTIMEZONE
BEGIN:VEVENT
DTSTART;TZID=America/Chicago:20220512T183000
DTEND;TZID=America/Chicago:20220512T203000
DTSTAMP:20260423T113305
CREATED:20220216T174451Z
LAST-MODIFIED:20220315T192203Z
UID:9370-1652380200-1652387400@kcmqg.com
SUMMARY:May 2022 Meeting: Journey of a Modern Art Quilter with Mary Kay Fosnacht
DESCRIPTION:Mary Kay \, a renowned award winner for her contemporary work.  She is known for her detailed work with color coordinated design implementation nationally. Mary Kay will be showing her work and explaining how she has been so successful. There is definitely a nod to Wassily Kandinsky\, improvisational art\, in her creative genius.   \nHere is improvisational quilt making at its best: \n \nThis is a hybrid meeting that can be attended in person at Overland Park First Assembly of God Church\, or via Zoom. If attending via Zoom\, you can find the meeting link in the KCMQG Newsletter or Facebook group.
URL:https://kcmqg.com/event/may-2022-meeting-journey-of-a-modern-art-quilter-with-mary-kay-fosnacht/
LOCATION:Overland Park First Assembly of God Church\, 7700 W. 75th St\, Overland Park\, KS\, United States
CATEGORIES:Monthly Meetings
ATTACH;FMTTYPE=image/jpeg:https://kcmqg.com/wp-content/uploads/2022/05/marykayfosnacht.jpeg
END:VEVENT
END:VCALENDAR