BEGIN:VCALENDAR
VERSION:2.0
PRODID:-//The Kansas City Modern Quilt Guild - ECPv6.15.20//NONSGML v1.0//EN
CALSCALE:GREGORIAN
METHOD:PUBLISH
X-ORIGINAL-URL:https://kcmqg.com
X-WR-CALDESC:Events for The Kansas City Modern Quilt Guild
REFRESH-INTERVAL;VALUE=DURATION:PT1H
X-Robots-Tag:noindex
X-PUBLISHED-TTL:PT1H
BEGIN:VTIMEZONE
TZID:America/Chicago
BEGIN:DAYLIGHT
TZOFFSETFROM:-0600
TZOFFSETTO:-0500
TZNAME:CDT
DTSTART:20210314T080000
END:DAYLIGHT
BEGIN:STANDARD
TZOFFSETFROM:-0500
TZOFFSETTO:-0600
TZNAME:CST
DTSTART:20211107T070000
END:STANDARD
BEGIN:DAYLIGHT
TZOFFSETFROM:-0600
TZOFFSETTO:-0500
TZNAME:CDT
DTSTART:20220313T080000
END:DAYLIGHT
BEGIN:STANDARD
TZOFFSETFROM:-0500
TZOFFSETTO:-0600
TZNAME:CST
DTSTART:20221106T070000
END:STANDARD
BEGIN:DAYLIGHT
TZOFFSETFROM:-0600
TZOFFSETTO:-0500
TZNAME:CDT
DTSTART:20230312T080000
END:DAYLIGHT
BEGIN:STANDARD
TZOFFSETFROM:-0500
TZOFFSETTO:-0600
TZNAME:CST
DTSTART:20231105T070000
END:STANDARD
END:VTIMEZONE
BEGIN:VEVENT
DTSTART;TZID=America/Chicago:20220609T183000
DTEND;TZID=America/Chicago:20220609T203000
DTSTAMP:20260423T100231
CREATED:20220315T192107Z
LAST-MODIFIED:20220421T172615Z
UID:9547-1654799400-1654806600@kcmqg.com
SUMMARY:June 2022 Meeting: Tia's Improv with Tia Curtis
DESCRIPTION:We welcome one of our own STARS\, Tia Curtis. Tia  conducts a warm\, light-hearted  presentation showcasing her quilting journey. Tia has lived all over the world\, and having been influenced by so many different cultures along the way it’s such a treat to connect with Tia’s view of quilting. Her love of Welsh-Style quilting and respect for quilt masters like Susan McCord and Gwen Marston is evident in her work. The Trunk Show will be one to be remembered!
URL:https://kcmqg.com/event/june-2022-meeting-tias-improv-with-tia-kurtis/
LOCATION:Overland Park First Assembly of God Church\, 7700 W. 75th St\, Overland Park\, KS\, United States
CATEGORIES:Monthly Meetings
ATTACH;FMTTYPE=image/png:https://kcmqg.com/wp-content/uploads/2022/03/TiaKurtis.png
END:VEVENT
END:VCALENDAR