BEGIN:VCALENDAR
VERSION:2.0
PRODID:-//The Kansas City Modern Quilt Guild - ECPv6.15.20//NONSGML v1.0//EN
CALSCALE:GREGORIAN
METHOD:PUBLISH
X-WR-CALNAME:The Kansas City Modern Quilt Guild
X-ORIGINAL-URL:https://kcmqg.com
X-WR-CALDESC:Events for The Kansas City Modern Quilt Guild
REFRESH-INTERVAL;VALUE=DURATION:PT1H
X-Robots-Tag:noindex
X-PUBLISHED-TTL:PT1H
BEGIN:VTIMEZONE
TZID:America/Chicago
BEGIN:DAYLIGHT
TZOFFSETFROM:-0600
TZOFFSETTO:-0500
TZNAME:CDT
DTSTART:20210314T080000
END:DAYLIGHT
BEGIN:STANDARD
TZOFFSETFROM:-0500
TZOFFSETTO:-0600
TZNAME:CST
DTSTART:20211107T070000
END:STANDARD
BEGIN:DAYLIGHT
TZOFFSETFROM:-0600
TZOFFSETTO:-0500
TZNAME:CDT
DTSTART:20220313T080000
END:DAYLIGHT
BEGIN:STANDARD
TZOFFSETFROM:-0500
TZOFFSETTO:-0600
TZNAME:CST
DTSTART:20221106T070000
END:STANDARD
BEGIN:DAYLIGHT
TZOFFSETFROM:-0600
TZOFFSETTO:-0500
TZNAME:CDT
DTSTART:20230312T080000
END:DAYLIGHT
BEGIN:STANDARD
TZOFFSETFROM:-0500
TZOFFSETTO:-0600
TZNAME:CST
DTSTART:20231105T070000
END:STANDARD
END:VTIMEZONE
BEGIN:VEVENT
DTSTART;TZID=America/Chicago:20220811T183000
DTEND;TZID=America/Chicago:20220811T203000
DTSTAMP:20260423T070414
CREATED:20220615T182720Z
LAST-MODIFIED:20220615T182720Z
UID:10000-1660242600-1660249800@kcmqg.com
SUMMARY:August 2022 Meeting: Sheila Frampton Cooper
DESCRIPTION:A very exciting Guild Meeting on August 11\, 2022 awaits all of us.  Sheila Frampton Cooper will be with us here presenting her very popular lecture:  “Spontaneous Creation and Inspiration”. This talk goes deep into her process. She discusses color\, inspiration and the various approaches she uses  when doing this type of work. She will share a variety of student work as well as a few other artists and discuss what makes a piece successful. This is a fun talk full of eye candy. \n\n\n\n\n\n\n\n\n\n\n\n\n\nThis is a hybrid meeting that can be attended in person at Overland Park First Assembly of God Church\, or via Zoom. If attending via Zoom\, you can find the meeting link in the KCMQG Newsletter or Facebook group.
URL:https://kcmqg.com/event/august-2022-meeting-sheila-frampton-cooper/
LOCATION:Overland Park First Assembly of God Church\, 7700 W. 75th St\, Overland Park\, KS\, United States
CATEGORIES:Monthly Meetings
ATTACH;FMTTYPE=image/png:https://kcmqg.com/wp-content/uploads/2022/06/SheilaFramptonCooper.png
END:VEVENT
END:VCALENDAR