BEGIN:VCALENDAR
VERSION:2.0
PRODID:-//The Kansas City Modern Quilt Guild - ECPv6.15.20//NONSGML v1.0//EN
CALSCALE:GREGORIAN
METHOD:PUBLISH
X-ORIGINAL-URL:https://kcmqg.com
X-WR-CALDESC:Events for The Kansas City Modern Quilt Guild
REFRESH-INTERVAL;VALUE=DURATION:PT1H
X-Robots-Tag:noindex
X-PUBLISHED-TTL:PT1H
BEGIN:VTIMEZONE
TZID:America/Chicago
BEGIN:DAYLIGHT
TZOFFSETFROM:-0600
TZOFFSETTO:-0500
TZNAME:CDT
DTSTART:20220313T080000
END:DAYLIGHT
BEGIN:STANDARD
TZOFFSETFROM:-0500
TZOFFSETTO:-0600
TZNAME:CST
DTSTART:20221106T070000
END:STANDARD
BEGIN:DAYLIGHT
TZOFFSETFROM:-0600
TZOFFSETTO:-0500
TZNAME:CDT
DTSTART:20230312T080000
END:DAYLIGHT
BEGIN:STANDARD
TZOFFSETFROM:-0500
TZOFFSETTO:-0600
TZNAME:CST
DTSTART:20231105T070000
END:STANDARD
BEGIN:DAYLIGHT
TZOFFSETFROM:-0600
TZOFFSETTO:-0500
TZNAME:CDT
DTSTART:20240310T080000
END:DAYLIGHT
BEGIN:STANDARD
TZOFFSETFROM:-0500
TZOFFSETTO:-0600
TZNAME:CST
DTSTART:20241103T070000
END:STANDARD
END:VTIMEZONE
BEGIN:VEVENT
DTSTART;TZID=America/Chicago:20230209T183000
DTEND;TZID=America/Chicago:20230209T203000
DTSTAMP:20260422T203034
CREATED:20221118T135434Z
LAST-MODIFIED:20221118T135434Z
UID:10780-1675967400-1675974600@kcmqg.com
SUMMARY:February 2023 Meeting - Laura Piland with Slice of Pi Quilts- "Try Something New"
DESCRIPTION:Laura Piland with Slice of Pi Quilts is a local quilter\, pattern designer and ex-math teacher\, “With a last name like Piland – there’s a strong love of pi in our house! Just after finishing my very first quilt almost 12 years ago\, I decided I would try something new with every quilt I made. I’ve made well over 400 quilts since then\, and I still love the thrill of trying new things! Every quilt in this show features a unique and different technique. Bias tape applique\, fabric weaving\, quilt as you go\, prairie points\, and 3-D elements are just a few of the many examples included in the show. Be prepared to be inspired and leave ready to try something new in your next quilt!” \nJoin us February 9\, 2023 at 6:30-8:30pm to see Laura’s trunk show and learn about her quilting journey.
URL:https://kcmqg.com/event/february-2023-meeting-laura-piland-with-slice-of-pi-quilts-try-something-new/
LOCATION:Merriam Community Center\, 6040 Slater St\, Merriam\, KS\, 66202\, United States
CATEGORIES:Monthly Meetings
ATTACH;FMTTYPE=image/png:https://kcmqg.com/wp-content/uploads/2022/11/Laura-Piland-1024x1016-1.png
END:VEVENT
END:VCALENDAR