BEGIN:VCALENDAR
VERSION:2.0
PRODID:-//The Kansas City Modern Quilt Guild - ECPv6.15.20//NONSGML v1.0//EN
CALSCALE:GREGORIAN
METHOD:PUBLISH
X-WR-CALNAME:The Kansas City Modern Quilt Guild
X-ORIGINAL-URL:https://kcmqg.com
X-WR-CALDESC:Events for The Kansas City Modern Quilt Guild
REFRESH-INTERVAL;VALUE=DURATION:PT1H
X-Robots-Tag:noindex
X-PUBLISHED-TTL:PT1H
BEGIN:VTIMEZONE
TZID:America/Chicago
BEGIN:DAYLIGHT
TZOFFSETFROM:-0600
TZOFFSETTO:-0500
TZNAME:CDT
DTSTART:20220313T080000
END:DAYLIGHT
BEGIN:STANDARD
TZOFFSETFROM:-0500
TZOFFSETTO:-0600
TZNAME:CST
DTSTART:20221106T070000
END:STANDARD
BEGIN:DAYLIGHT
TZOFFSETFROM:-0600
TZOFFSETTO:-0500
TZNAME:CDT
DTSTART:20230312T080000
END:DAYLIGHT
BEGIN:STANDARD
TZOFFSETFROM:-0500
TZOFFSETTO:-0600
TZNAME:CST
DTSTART:20231105T070000
END:STANDARD
BEGIN:DAYLIGHT
TZOFFSETFROM:-0600
TZOFFSETTO:-0500
TZNAME:CDT
DTSTART:20240310T080000
END:DAYLIGHT
BEGIN:STANDARD
TZOFFSETFROM:-0500
TZOFFSETTO:-0600
TZNAME:CST
DTSTART:20241103T070000
END:STANDARD
END:VTIMEZONE
BEGIN:VEVENT
DTSTART;TZID=America/Chicago:20230810T183000
DTEND;TZID=America/Chicago:20230810T203000
DTSTAMP:20260422T120927
CREATED:20230213T192603Z
LAST-MODIFIED:20230515T203933Z
UID:11583-1691692200-1691699400@kcmqg.com
SUMMARY:August 2023 Meeting: Audrey Esarey (Cotton & Bourbon)
DESCRIPTION:In August\, we are excited to welcome Audrey Esarey of Cotton and Bourbon to the KCMQG! She has always identified as a maker\, and has sewn for as long as she can remember\, but only began quilting in 2005. In 2018\, she set a personal goal to exhibit her work in a juried quilt show\, which motivated her to design and create a series of original quilts. Since then\, her quilts have been exhibited and recognized at Quilt National\, International Quilt Festival\, and QuiltCon. She shares her creative process on Instagram via @CottonandBourbon  You’ll be excited to hear her lecture which focuses on her path to becoming a modern quilter and how she’s applied many traditional techniques in her modern quilts. She’ll discuss the progression of her work and show her Radial Quilts\, Watercolor Quilts\, and a few others too! She will also share information on design inspiration\, favorite artists\, and discuss some quilting highs and lows along her journey. \nThere is a $10 fee for guests which will happily apply to a membership should they decide to join us!
URL:https://kcmqg.com/event/august-2023-meeting-audrey-esarey-cotton-bourbon/
LOCATION:Merriam Community Center\, 6040 Slater St\, Merriam\, KS\, 66202\, United States
CATEGORIES:Monthly Meetings
ATTACH;FMTTYPE=image/jpeg:https://kcmqg.com/wp-content/uploads/2023/02/DSC000682.jpeg
END:VEVENT
END:VCALENDAR