BEGIN:VCALENDAR
VERSION:2.0
PRODID:-//The Kansas City Modern Quilt Guild - ECPv6.15.20//NONSGML v1.0//EN
CALSCALE:GREGORIAN
METHOD:PUBLISH
X-ORIGINAL-URL:https://kcmqg.com
X-WR-CALDESC:Events for The Kansas City Modern Quilt Guild
REFRESH-INTERVAL;VALUE=DURATION:PT1H
X-Robots-Tag:noindex
X-PUBLISHED-TTL:PT1H
BEGIN:VTIMEZONE
TZID:America/Chicago
BEGIN:DAYLIGHT
TZOFFSETFROM:-0600
TZOFFSETTO:-0500
TZNAME:CDT
DTSTART:20220313T080000
END:DAYLIGHT
BEGIN:STANDARD
TZOFFSETFROM:-0500
TZOFFSETTO:-0600
TZNAME:CST
DTSTART:20221106T070000
END:STANDARD
BEGIN:DAYLIGHT
TZOFFSETFROM:-0600
TZOFFSETTO:-0500
TZNAME:CDT
DTSTART:20230312T080000
END:DAYLIGHT
BEGIN:STANDARD
TZOFFSETFROM:-0500
TZOFFSETTO:-0600
TZNAME:CST
DTSTART:20231105T070000
END:STANDARD
BEGIN:DAYLIGHT
TZOFFSETFROM:-0600
TZOFFSETTO:-0500
TZNAME:CDT
DTSTART:20240310T080000
END:DAYLIGHT
BEGIN:STANDARD
TZOFFSETFROM:-0500
TZOFFSETTO:-0600
TZNAME:CST
DTSTART:20241103T070000
END:STANDARD
END:VTIMEZONE
BEGIN:VEVENT
DTSTART;TZID=America/Chicago:20231214T183000
DTEND;TZID=America/Chicago:20231214T203000
DTSTAMP:20260422T063301
CREATED:20231106T153253Z
LAST-MODIFIED:20231106T153253Z
UID:12518-1702578600-1702585800@kcmqg.com
SUMMARY:December 2023 Meeting: Holiday Party
DESCRIPTION:December Holiday Party and Committee Fair \nOur traditional Holiday Party will continue this December and we’ll add a Committee Fair and encourage you to be “Looking For More in 2024”. There will be a chance to meet the committees and find out about what they do to enhance the KCMQG experience. This amazing guild is run by all volunteer help and we need you to make it happen! Holiday refreshments\, a chance to talk and get to know other members\, and a introduction to the committees will give you a reason to look forward to the 2024 KCMQG season. Join us\, won’t you?
URL:https://kcmqg.com/event/december-2023-meeting-holiday-party/
LOCATION:Merriam Community Center\, 6040 Slater St\, Merriam\, KS\, 66202\, United States
CATEGORIES:Monthly Meetings
ATTACH;FMTTYPE=image/jpeg:https://kcmqg.com/wp-content/uploads/2023/11/IMG_1141.jpeg
END:VEVENT
END:VCALENDAR