BEGIN:VCALENDAR
VERSION:2.0
PRODID:-//The Kansas City Modern Quilt Guild - ECPv6.15.20//NONSGML v1.0//EN
CALSCALE:GREGORIAN
METHOD:PUBLISH
X-ORIGINAL-URL:https://kcmqg.com
X-WR-CALDESC:Events for The Kansas City Modern Quilt Guild
REFRESH-INTERVAL;VALUE=DURATION:PT1H
X-Robots-Tag:noindex
X-PUBLISHED-TTL:PT1H
BEGIN:VTIMEZONE
TZID:America/Chicago
BEGIN:DAYLIGHT
TZOFFSETFROM:-0600
TZOFFSETTO:-0500
TZNAME:CDT
DTSTART:20230312T080000
END:DAYLIGHT
BEGIN:STANDARD
TZOFFSETFROM:-0500
TZOFFSETTO:-0600
TZNAME:CST
DTSTART:20231105T070000
END:STANDARD
BEGIN:DAYLIGHT
TZOFFSETFROM:-0600
TZOFFSETTO:-0500
TZNAME:CDT
DTSTART:20240310T080000
END:DAYLIGHT
BEGIN:STANDARD
TZOFFSETFROM:-0500
TZOFFSETTO:-0600
TZNAME:CST
DTSTART:20241103T070000
END:STANDARD
BEGIN:DAYLIGHT
TZOFFSETFROM:-0600
TZOFFSETTO:-0500
TZNAME:CDT
DTSTART:20250309T080000
END:DAYLIGHT
BEGIN:STANDARD
TZOFFSETFROM:-0500
TZOFFSETTO:-0600
TZNAME:CST
DTSTART:20251102T070000
END:STANDARD
END:VTIMEZONE
BEGIN:VEVENT
DTSTART;TZID=America/Chicago:20240208T183000
DTEND;TZID=America/Chicago:20240208T203000
DTSTAMP:20260422T033558
CREATED:20231106T190440Z
LAST-MODIFIED:20231217T193437Z
UID:12534-1707417000-1707424200@kcmqg.com
SUMMARY:February 2024 Meeting: Everyday Stitches - Paper Piecing
DESCRIPTION:On February 8\, 2024\, come spend some time with our very own KCMQG creatives\,  Trisch Price and Jenifer Dick of Everyday Stitches as they debut “Talking Foundation Paper Piecing with Everyday Stitches: An Evening of Design\, Technique & Inspiration” and introduce a brand new paper piecing pattern! \nIt will be an intriguing evening and who knows paper piecing may become your new favorite technique! \nKelly Lautenbach – VP of Programming
URL:https://kcmqg.com/event/february-2024-meeting-everyday-stitches/
LOCATION:Merriam Community Center\, 6040 Slater St\, Merriam\, KS\, 66202\, United States
CATEGORIES:Monthly Meetings
ATTACH;FMTTYPE=image/png:https://kcmqg.com/wp-content/uploads/2023/11/EverydayStitche.png
END:VEVENT
END:VCALENDAR