BEGIN:VCALENDAR
VERSION:2.0
PRODID:-//The Kansas City Modern Quilt Guild - ECPv6.15.20//NONSGML v1.0//EN
CALSCALE:GREGORIAN
METHOD:PUBLISH
X-ORIGINAL-URL:https://kcmqg.com
X-WR-CALDESC:Events for The Kansas City Modern Quilt Guild
REFRESH-INTERVAL;VALUE=DURATION:PT1H
X-Robots-Tag:noindex
X-PUBLISHED-TTL:PT1H
BEGIN:VTIMEZONE
TZID:America/Chicago
BEGIN:DAYLIGHT
TZOFFSETFROM:-0600
TZOFFSETTO:-0500
TZNAME:CDT
DTSTART:20230312T080000
END:DAYLIGHT
BEGIN:STANDARD
TZOFFSETFROM:-0500
TZOFFSETTO:-0600
TZNAME:CST
DTSTART:20231105T070000
END:STANDARD
BEGIN:DAYLIGHT
TZOFFSETFROM:-0600
TZOFFSETTO:-0500
TZNAME:CDT
DTSTART:20240310T080000
END:DAYLIGHT
BEGIN:STANDARD
TZOFFSETFROM:-0500
TZOFFSETTO:-0600
TZNAME:CST
DTSTART:20241103T070000
END:STANDARD
BEGIN:DAYLIGHT
TZOFFSETFROM:-0600
TZOFFSETTO:-0500
TZNAME:CDT
DTSTART:20250309T080000
END:DAYLIGHT
BEGIN:STANDARD
TZOFFSETFROM:-0500
TZOFFSETTO:-0600
TZNAME:CST
DTSTART:20251102T070000
END:STANDARD
END:VTIMEZONE
BEGIN:VEVENT
DTSTART;TZID=America/Chicago:20241010T183000
DTEND;TZID=America/Chicago:20241010T203000
DTSTAMP:20260421T152510
CREATED:20231106T192241Z
LAST-MODIFIED:20240717T231208Z
UID:12568-1728585000-1728592200@kcmqg.com
SUMMARY:October 2024 Meeting: Diane Harris - Stash Bandit
DESCRIPTION:October 10\, 2024 6:30pm Merriam Community Center \nOctober finds us jumping into the world of all things ScRaPpY and our fearless leader for the adventure will be Diane Harris of Stash Bandit. Diane Harris is a quilter who loves everything about the process and enjoys sharing it with others. She’s  been sewing for almost 50 years and quilting for three decades. She can’t imagine ever running out of ideas. \nFor 11 years\, she was an editor for Quiltmaker magazine where she wrote patterns\, product reviews and how-to articles. Her quilt designs can still be seen regularly in the pages of Quiltmaker\, McCall’s Quilting and Quick Quilts. \nHer trunk shows and classes are lively\, inspiring entertainment. We can’t wait to see her quilts and be inspired to dive into our scrap bins to create beautiful quilts. You can learn more about Diane by visiting her on Instagram @stashbanditquilts or her website StashBandit Website
URL:https://kcmqg.com/event/october-2024-meeting-diane-harris-stash-bandit/
LOCATION:Merriam Community Center\, 6040 Slater St\, Merriam\, KS\, 66202\, United States
CATEGORIES:Monthly Meetings
ATTACH;FMTTYPE=image/png:https://kcmqg.com/wp-content/uploads/2023/11/StashBandit.png
END:VEVENT
END:VCALENDAR