BEGIN:VCALENDAR
VERSION:2.0
PRODID:-//The Kansas City Modern Quilt Guild - ECPv6.15.20//NONSGML v1.0//EN
CALSCALE:GREGORIAN
METHOD:PUBLISH
X-WR-CALNAME:The Kansas City Modern Quilt Guild
X-ORIGINAL-URL:https://kcmqg.com
X-WR-CALDESC:Events for The Kansas City Modern Quilt Guild
REFRESH-INTERVAL;VALUE=DURATION:PT1H
X-Robots-Tag:noindex
X-PUBLISHED-TTL:PT1H
BEGIN:VTIMEZONE
TZID:America/Chicago
BEGIN:DAYLIGHT
TZOFFSETFROM:-0600
TZOFFSETTO:-0500
TZNAME:CDT
DTSTART:20240310T080000
END:DAYLIGHT
BEGIN:STANDARD
TZOFFSETFROM:-0500
TZOFFSETTO:-0600
TZNAME:CST
DTSTART:20241103T070000
END:STANDARD
BEGIN:DAYLIGHT
TZOFFSETFROM:-0600
TZOFFSETTO:-0500
TZNAME:CDT
DTSTART:20250309T080000
END:DAYLIGHT
BEGIN:STANDARD
TZOFFSETFROM:-0500
TZOFFSETTO:-0600
TZNAME:CST
DTSTART:20251102T070000
END:STANDARD
BEGIN:DAYLIGHT
TZOFFSETFROM:-0600
TZOFFSETTO:-0500
TZNAME:CDT
DTSTART:20260308T080000
END:DAYLIGHT
BEGIN:STANDARD
TZOFFSETFROM:-0500
TZOFFSETTO:-0600
TZNAME:CST
DTSTART:20261101T070000
END:STANDARD
BEGIN:DAYLIGHT
TZOFFSETFROM:-0600
TZOFFSETTO:-0500
TZNAME:CDT
DTSTART:20270314T080000
END:DAYLIGHT
BEGIN:STANDARD
TZOFFSETFROM:-0500
TZOFFSETTO:-0600
TZNAME:CST
DTSTART:20271107T070000
END:STANDARD
END:VTIMEZONE
BEGIN:VEVENT
DTSTART;TZID=America/Chicago:20250313T183000
DTEND;TZID=America/Chicago:20250313T210000
DTSTAMP:20260422T174625
CREATED:20250116T143030Z
LAST-MODIFIED:20250301T033105Z
UID:14721-1741890600-1741899600@kcmqg.com
SUMMARY:Monthly Meeting: QuiltCon A to Z
DESCRIPTION:Additional information will be added once we get all the details ironed out.
URL:https://kcmqg.com/event/monthly-meeting-quiltcon-a-to-z/
LOCATION:Merriam Community Center\, 6040 Slater St\, Merriam\, KS\, 66202\, United States
CATEGORIES:Monthly Meetings
END:VEVENT
BEGIN:VEVENT
DTSTART;TZID=America/Chicago:20250410T183000
DTEND;TZID=America/Chicago:20250410T203000
DTSTAMP:20260422T174625
CREATED:20250116T144810Z
LAST-MODIFIED:20250116T174826Z
UID:14733-1744309800-1744317000@kcmqg.com
SUMMARY:April Monthly Meeting: Denyse Schmidt
DESCRIPTION:Additional information will be added once we get all the details ironed out.
URL:https://kcmqg.com/event/april-monthly-meeting-denyse-schmidt/
LOCATION:Merriam Community Center\, 6040 Slater St\, Merriam\, KS\, 66202\, United States
CATEGORIES:Monthly Meetings
END:VEVENT
BEGIN:VEVENT
DTSTART;TZID=America/Chicago:20250508T183000
DTEND;TZID=America/Chicago:20250508T203000
DTSTAMP:20260422T174625
CREATED:20250116T145444Z
LAST-MODIFIED:20250414T133142Z
UID:14747-1746729000-1746736200@kcmqg.com
SUMMARY:Monthly Meeting: Negative Space Challenge
DESCRIPTION:Discover the Power of Negative Space at Our May 8th Meeting! \nJoin us on May 8th for an inspiring evening as our talented KCMQG members showcase their Negative Space Challenge mini quilts! This is your chance to see how quilters have embraced the challenge\, using bold expanses of fabric\, intricate quilting textures\, and unexpected layouts to transform “empty” space into a striking design element. \nMembers are invited to create a mini quilt (24″ x 24″ max) that highlights negative space in a unique way. Whether you go for modern minimalism\, high-contrast drama\, or delicate quilting details\, we can’t wait to see your interpretation!  Attendees in person and on Zoom will have an opportunity to share their quilts.  If you would like to have your mini quilt featured at the Kansas City Regional Quilt Festival in the KCMQG Negative Space exhibit\, you can leave your mini with Kelly Hubka after the meeting.  There will be additional opportunities to deliver your quilt for inclusion in our KCRQF exhibit\, so stay tuned for those details. \nMark your calendars\, get inspired\, and join us for an evening of creativity and conversation. See you there!
URL:https://kcmqg.com/event/monthly-meeting/
LOCATION:Merriam Community Center\, 6040 Slater St\, Merriam\, KS\, 66202\, United States
CATEGORIES:Monthly Meetings
END:VEVENT
BEGIN:VEVENT
DTSTART;TZID=America/Chicago:20250612T183000
DTEND;TZID=America/Chicago:20250612T203000
DTSTAMP:20260422T174625
CREATED:20250116T145658Z
LAST-MODIFIED:20250414T133452Z
UID:14751-1749753000-1749760200@kcmqg.com
SUMMARY:Monthly Meeting: Kitty Wilkin - Quilt Your Life: Milestone Quilts for Every Moment
DESCRIPTION:Kitty Wilkin\, the Night Quilter\, is joining us virtually on June 12th for a memorable presentation called “Quilt Your Life: Milestone Quilts for Every Moment”.  Come explore the world of quilts created to mark milestones\, and see why these quilts are a fun and meaningful solution to joyful sewing in this busy world. In this workshop\, Kitty will share her journey through the world of creating milestone quilts\, beginning with the quilt she created for her third child to mark his first year of life\, and will explore other life events that can be documented through the creation of a quilt. Together we will talk about the many variables to consider when designing milestone quilts and you will come up with a plan for a milestone quilt of your own. Kitty will guide you through the process so that you leave feeling inspired and ready to dive into creating a positive feedback loop in your life\, documenting your days through the creation of a quilt.
URL:https://kcmqg.com/event/monthly-meeting-2/
LOCATION:Merriam Community Center\, 6040 Slater St\, Merriam\, KS\, 66202\, United States
CATEGORIES:Monthly Meetings
END:VEVENT
BEGIN:VEVENT
DTSTART;TZID=America/Chicago:20250710T183000
DTEND;TZID=America/Chicago:20250710T203000
DTSTAMP:20260422T174625
CREATED:20250116T171132Z
LAST-MODIFIED:20250608T124235Z
UID:14763-1752172200-1752179400@kcmqg.com
SUMMARY:Monthly Meeting: Luke Haynes
DESCRIPTION:Luke Haynes is coming to KCMQG on July 10th for a dynamic lecture about his quilting journey that’s taken him across the globe!  \nCheck out Luke’s quilt art on Instagram and his website!  \nIG: @entropies  \nWebsite: https://luke.art
URL:https://kcmqg.com/event/monthly-meeting-3/
LOCATION:Merriam Community Center\, 6040 Slater St\, Merriam\, KS\, 66202\, United States
CATEGORIES:Monthly Meetings
ATTACH;FMTTYPE=image/png:https://kcmqg.com/wp-content/uploads/2025/01/luke.png
END:VEVENT
BEGIN:VEVENT
DTSTART;TZID=America/Chicago:20250814T183000
DTEND;TZID=America/Chicago:20250814T203000
DTSTAMP:20260422T174625
CREATED:20250116T171315Z
LAST-MODIFIED:20250608T124750Z
UID:14767-1755196200-1755203400@kcmqg.com
SUMMARY:Monthly Meeting: Sandi Griepenstroh
DESCRIPTION:Join Sandi Griepenstroh for a lecture on August 14th about organizing your space. Sandi is a quilter with more than 30 years of experience and knows a thing or two about how to optimize and organize quilting spaces! She will also host a workshop called “String Quilts Revisited” on August 15th from 10-4pm. In this workshop\, we will see String Quilts in a new way\, using the book String Quilt Revival: A Fresh Approach to 13 Classic Designs by Virginia Baker and Barbara Sanders as inspiration.  \nBe sure to follow Sandi on Instagram at @lonetreequilter
URL:https://kcmqg.com/event/monthly-meeting-august-2025/
LOCATION:Merriam Community Center\, 6040 Slater St\, Merriam\, KS\, 66202\, United States
CATEGORIES:Monthly Meetings
ATTACH;FMTTYPE=image/jpeg:https://kcmqg.com/wp-content/uploads/2025/01/sandi.jpg
END:VEVENT
BEGIN:VEVENT
DTSTART;TZID=America/Chicago:20250911T183000
DTEND;TZID=America/Chicago:20250911T203000
DTSTAMP:20260422T174625
CREATED:20250116T172102Z
LAST-MODIFIED:20250608T130302Z
UID:14771-1757615400-1757622600@kcmqg.com
SUMMARY:Monthly Meeting: Kim Alexis Newton
DESCRIPTION:Additional information will be added once we get all the details ironed out.
URL:https://kcmqg.com/event/monthly-meeting-september-2025/
LOCATION:KS
CATEGORIES:Monthly Meetings
END:VEVENT
BEGIN:VEVENT
DTSTART;TZID=America/Chicago:20251009T183000
DTEND;TZID=America/Chicago:20251009T203000
DTSTAMP:20260422T174625
CREATED:20250116T172443Z
LAST-MODIFIED:20250714T125207Z
UID:14776-1760034600-1760041800@kcmqg.com
SUMMARY:Monthly Meeting: Ashelyn Downs
DESCRIPTION:Join us on Thursday\, October 9th\, to welcome Ashelyn Downs of Urban Dwell Studio! \nAshelyn will treat us to an inspiring trunk show featuring her large-scale\, minimal quilts. She will share projects that feature her improv process\, fabric selection process\, and a demonstration of how she assembles her “blocks”. Learn about and follow Urban Dwell Studio on Instagram!
URL:https://kcmqg.com/event/monthly-meeting-october-2025/
LOCATION:Merriam Community Center\, 6040 Slater St\, Merriam\, KS\, 66202\, United States
CATEGORIES:Monthly Meetings
ATTACH;FMTTYPE=image/jpeg:https://kcmqg.com/wp-content/uploads/2025/01/Ashelyn-Downs-Bio-Image-scaled-1.jpg
END:VEVENT
BEGIN:VEVENT
DTSTART;TZID=America/Chicago:20251113T183000
DTEND;TZID=America/Chicago:20251113T203000
DTSTAMP:20260422T174625
CREATED:20250116T180236Z
LAST-MODIFIED:20251105T005806Z
UID:14799-1763058600-1763065800@kcmqg.com
SUMMARY:Monthly Meeting: Crystal Manning
DESCRIPTION:Join us on November 13\, 2025 for our guest speaker Crystal Manning! \nCrystal is a Kansas City fabric and quilt artist who will share a trunk show of her latest and favorite quilts. \nAfter spending a decade as a graphic designer\, Crystal turned her artistic talents toward surface and textile pattern design. In 2015\, she bought her first sewing machine and began teaching herself to sew\, using her custom-printed Spoonflower fabrics. Though she endured the occasional pinprick and became well-acquainted with her seam ripper\, her passion for sewing and fabric design flourished. \nSince 2017\, Crystal has been designing fabric for Moda Fabrics\, inspiring sewists to create with her stylish collections. She also designs quilt patterns to complement her fabric lines.
URL:https://kcmqg.com/event/monthly-meeting-november-2025/
LOCATION:Merriam Community Center\, 6040 Slater St\, Merriam\, KS\, 66202\, United States
CATEGORIES:Monthly Meetings
END:VEVENT
BEGIN:VEVENT
DTSTART;TZID=America/Chicago:20251211T183000
DTEND;TZID=America/Chicago:20251211T203000
DTSTAMP:20260422T174625
CREATED:20250116T173953Z
LAST-MODIFIED:20250116T180314Z
UID:14780-1765477800-1765485000@kcmqg.com
SUMMARY:Monthly Meeting: Holiday Party
DESCRIPTION:Additional information will be added once we get all the details ironed out.
URL:https://kcmqg.com/event/monthly-meeting-holiday-party/
LOCATION:Merriam Community Center\, 6040 Slater St\, Merriam\, KS\, 66202\, United States
CATEGORIES:Monthly Meetings
END:VEVENT
BEGIN:VEVENT
DTSTART;TZID=America/Chicago:20260108T183000
DTEND;TZID=America/Chicago:20260108T203000
DTSTAMP:20260422T174625
CREATED:20260104T004049Z
LAST-MODIFIED:20260104T004049Z
UID:16813-1767897000-1767904200@kcmqg.com
SUMMARY:Monthly Meeting: Make Up or Break Up
DESCRIPTION:Start your new year by taking stock of the dreaded unfinished projects that are stashed around your sewing room. Bring the projects that you just can’t bring yourself to finish\, and we will break into groups to workshop why you are stuck\, what might get you motivated\, or if you should just ditch the idea altogether.
URL:https://kcmqg.com/event/monthly-meeting-make-up-or-break-up/
LOCATION:Merriam Community Center\, 6040 Slater St\, Merriam\, KS\, 66202\, United States
CATEGORIES:Monthly Meetings
ATTACH;FMTTYPE=image/jpeg:https://kcmqg.com/wp-content/uploads/2026/01/January.jpg
END:VEVENT
BEGIN:VEVENT
DTSTART;TZID=America/Chicago:20260212T183000
DTEND;TZID=America/Chicago:20260212T203000
DTSTAMP:20260422T174625
CREATED:20260104T004230Z
LAST-MODIFIED:20260104T004459Z
UID:16819-1770921000-1770928200@kcmqg.com
SUMMARY:Monthly Meeting: How to Photograph a Quilt with Lauren Hunt
DESCRIPTION:You’ve finished your gorgeous new quilt and want to share it with the world\, but your photographs aren’t doing it justice. What to do? Lauren Hunt\, who has photographed quilts for pattern designers and publishers like Lucky Spool\, will share her tips for giving your quilt the glamour shot it deserves.
URL:https://kcmqg.com/event/monthly-meeting-how-to-photograph-a-quilt-with-lauren-hunt/
LOCATION:Merriam Community Center\, 6040 Slater St\, Merriam\, KS\, 66202\, United States
CATEGORIES:Monthly Meetings
ATTACH;FMTTYPE=image/jpeg:https://kcmqg.com/wp-content/uploads/2026/01/February.jpg
END:VEVENT
BEGIN:VEVENT
DTSTART;TZID=America/Chicago:20260312T183000
DTEND;TZID=America/Chicago:20260312T203000
DTSTAMP:20260422T174625
CREATED:20260104T005719Z
LAST-MODIFIED:20260104T005719Z
UID:16836-1773340200-1773347400@kcmqg.com
SUMMARY:Monthly Meeting: Design a Quilt Series: Inspiration
DESCRIPTION:This month we are launching our Design a Quilt Series\, where we will look at the building blocks of design to give you the confidence to step away from the pattern. Every design starts with inspiration\, and in this meeting we will look at what’s trending in quilting design\, particularly at QuiltCon.
URL:https://kcmqg.com/event/monthly-meeting-design-a-quilt-series-inspiration/
LOCATION:Merriam Community Center\, 6040 Slater St\, Merriam\, KS\, 66202\, United States
CATEGORIES:Monthly Meetings
ATTACH;FMTTYPE=image/jpeg:https://kcmqg.com/wp-content/uploads/2026/01/March.jpg
END:VEVENT
BEGIN:VEVENT
DTSTART;TZID=America/Chicago:20260409T183000
DTEND;TZID=America/Chicago:20260409T203000
DTSTAMP:20260422T174625
CREATED:20260104T010808Z
LAST-MODIFIED:20260104T010808Z
UID:16854-1775759400-1775766600@kcmqg.com
SUMMARY:Monthly Meeting: Design a Quilt Series: Quilt Exploder
DESCRIPTION:This month\, we are going to talk to some of our own members about their journey designing a quilt. From their initial inspiration to the nitty gritty sewing details\, we will learn about each artist’s process and technique. It’s like we get to pause Show and Tell to get into the how and why of each quilt.
URL:https://kcmqg.com/event/monthly-meeting-design-a-quilt-series-quilt-exploder/
LOCATION:Merriam Community Center\, 6040 Slater St\, Merriam\, KS\, 66202\, United States
CATEGORIES:Monthly Meetings
ATTACH;FMTTYPE=image/jpeg:https://kcmqg.com/wp-content/uploads/2026/01/April.jpg
END:VEVENT
BEGIN:VEVENT
DTSTART;TZID=America/Chicago:20260514T183000
DTEND;TZID=America/Chicago:20260514T203000
DTSTAMP:20260422T174625
CREATED:20260104T011008Z
LAST-MODIFIED:20260104T011008Z
UID:16859-1778783400-1778790600@kcmqg.com
SUMMARY:Monthly Meeting: The Complex Composition with Valerie Goodwin
DESCRIPTION:We are thrilled to welcome Valerie Goodwin to our guild! She will share how she\napproaches composition in creating a commissioned art quilt. The lecture will provide food for thought in terms of how different design disciplines can be combined to create unique ways of thinking about design.
URL:https://kcmqg.com/event/monthly-meeting-the-complex-composition-with-valerie-goodwin/
LOCATION:Merriam Community Center\, 6040 Slater St\, Merriam\, KS\, 66202\, United States
CATEGORIES:Monthly Meetings
ATTACH;FMTTYPE=image/jpeg:https://kcmqg.com/wp-content/uploads/2026/01/May.jpg
END:VEVENT
BEGIN:VEVENT
DTSTART;TZID=America/Chicago:20260611T183000
DTEND;TZID=America/Chicago:20260611T203000
DTSTAMP:20260422T174625
CREATED:20260104T011137Z
LAST-MODIFIED:20260104T011137Z
UID:16863-1781202600-1781209800@kcmqg.com
SUMMARY:Monthly Meeting: Color and Design with Tara Faughnan
DESCRIPTION:We are so excited to welcome back Tara Faughnan to the guild! Tara will be joining us\nover Zoom (hooray\, technology!)\, and sharing what she’s learned about color in her 20 years as a designer. She will share some of her approaches to the creative process\, and discuss the importance of value\, proportion and color when designing a quilt.
URL:https://kcmqg.com/event/monthly-meeting-color-and-design-with-tara-faughnan/
LOCATION:Merriam Community Center\, 6040 Slater St\, Merriam\, KS\, 66202\, United States
CATEGORIES:Monthly Meetings
ATTACH;FMTTYPE=image/jpeg:https://kcmqg.com/wp-content/uploads/2026/01/June.jpg
END:VEVENT
BEGIN:VEVENT
DTSTART;TZID=America/Chicago:20260709T183000
DTEND;TZID=America/Chicago:20260709T203000
DTSTAMP:20260422T174625
CREATED:20260104T011318Z
LAST-MODIFIED:20260104T011452Z
UID:16868-1783621800-1783629000@kcmqg.com
SUMMARY:Monthly Meeting: Ten Minute Tips
DESCRIPTION:There are over 200 members in the KCMQG\, and we all have little tricks and sewing hacks that we have picked up over the years. Think about how much knowledge there is in our group! This month members will share their 10-minute tips with the group and we will all leave a little smarter than when we arrived.
URL:https://kcmqg.com/event/monthly-meeting-ten-minute-tips/
LOCATION:Merriam Community Center\, 6040 Slater St\, Merriam\, KS\, 66202\, United States
CATEGORIES:Monthly Meetings
ATTACH;FMTTYPE=image/jpeg:https://kcmqg.com/wp-content/uploads/2026/01/July.jpg
END:VEVENT
BEGIN:VEVENT
DTSTART;TZID=America/Chicago:20260813T183000
DTEND;TZID=America/Chicago:20260813T203000
DTSTAMP:20260422T174625
CREATED:20260104T011618Z
LAST-MODIFIED:20260104T011618Z
UID:16873-1786645800-1786653000@kcmqg.com
SUMMARY:Monthly Meeting: Concentric Circles with Maday Delgado
DESCRIPTION:We are thrilled to welcome Maday Delgado to our guild! Maday is a prolific\, bilingual art\neducator devoted to sustainability. She is a published artist\, author\, and speaker who is\ncommitted to bringing innovation and artistry to the forefront of the work she creates. This month\, she is going to share her tips on one of the scariest sewing techniques – piecing with concentric circles.
URL:https://kcmqg.com/event/monthly-meeting-concentric-circles-with-maday-delgado/
LOCATION:Merriam Community Center\, 6040 Slater St\, Merriam\, KS\, 66202\, United States
CATEGORIES:Monthly Meetings
ATTACH;FMTTYPE=image/jpeg:https://kcmqg.com/wp-content/uploads/2026/01/August.jpg
END:VEVENT
BEGIN:VEVENT
DTSTART;TZID=America/Chicago:20260910T183000
DTEND;TZID=America/Chicago:20260910T203000
DTSTAMP:20260422T174625
CREATED:20260104T011820Z
LAST-MODIFIED:20260104T011820Z
UID:16878-1789065000-1789072200@kcmqg.com
SUMMARY:Monthly Meeting: Quilts on the Lawn Picnic
DESCRIPTION:This month we’ll take a break from our regular programming to have a picnic party. Pack up your favorite picnic quilt\, snacks\, and handwork to meet us at a local museum  for an evening of camaraderie\, community\, and quilts.
URL:https://kcmqg.com/event/monthly-meeting-quilts-on-the-lawn-picnic/
LOCATION:KS
CATEGORIES:Monthly Meetings
ATTACH;FMTTYPE=image/jpeg:https://kcmqg.com/wp-content/uploads/2026/01/September.jpg
END:VEVENT
BEGIN:VEVENT
DTSTART;TZID=America/Chicago:20261008T183000
DTEND;TZID=America/Chicago:20261008T203000
DTSTAMP:20260422T174625
CREATED:20260104T011950Z
LAST-MODIFIED:20260104T011950Z
UID:16883-1791484200-1791491400@kcmqg.com
SUMMARY:Monthly Meeting: Introduction to Natural Dye with Bess Wilke
DESCRIPTION:We are happy to welcome Bess Wilke to the guild! Bess will join us to share her techniques of that thrilling alchemy that is natural dyeing. She’ll share how to get started in this magical world\, recipes\, and samples. Start saving your marigold petals\, you are going to want them after you hear from Bess!
URL:https://kcmqg.com/event/monthly-meeting-introduction-to-natural-dye-with-bess-wilke/
LOCATION:Merriam Community Center\, 6040 Slater St\, Merriam\, KS\, 66202\, United States
CATEGORIES:Monthly Meetings
ATTACH;FMTTYPE=image/jpeg:https://kcmqg.com/wp-content/uploads/2026/01/October.jpg
END:VEVENT
BEGIN:VEVENT
DTSTART;TZID=America/Chicago:20261112T183000
DTEND;TZID=America/Chicago:20261112T203000
DTSTAMP:20260422T174625
CREATED:20260104T012123Z
LAST-MODIFIED:20260104T012123Z
UID:16889-1794508200-1794515400@kcmqg.com
SUMMARY:Monthly Meeting: Design a Quilt Series: The Big Reveal!
DESCRIPTION:It’s time for the big reveal! After a season of learning the building blocks of design\, we can’t wait to see the quilt you’ve created. Tiny to California King\, we are looking forward to learning how our Design a Quilt Series influenced your work this year.
URL:https://kcmqg.com/event/monthly-meeting-design-a-quilt-series-the-big-reveal/
LOCATION:Merriam Community Center\, 6040 Slater St\, Merriam\, KS\, 66202\, United States
CATEGORIES:Monthly Meetings
ATTACH;FMTTYPE=image/jpeg:https://kcmqg.com/wp-content/uploads/2026/01/November.jpg
END:VEVENT
BEGIN:VEVENT
DTSTART;TZID=America/Chicago:20261210T183000
DTEND;TZID=America/Chicago:20261210T203000
DTSTAMP:20260422T174625
CREATED:20260104T012248Z
LAST-MODIFIED:20260104T012248Z
UID:16894-1796927400-1796934600@kcmqg.com
SUMMARY:Monthly Meeting: Holiday Party
DESCRIPTION:The days are dark\, but the quilts are merry and bright! Share your holiday creations\, play games\, eat snacks\, and join the merriment that is the KCMQG Holiday Party.
URL:https://kcmqg.com/event/monthly-meeting-holiday-party-2/
LOCATION:Merriam Community Center\, 6040 Slater St\, Merriam\, KS\, 66202\, United States
CATEGORIES:Monthly Meetings
ATTACH;FMTTYPE=image/jpeg:https://kcmqg.com/wp-content/uploads/2026/01/December.jpg
END:VEVENT
END:VCALENDAR