BEGIN:VCALENDAR
VERSION:2.0
PRODID:-//The Kansas City Modern Quilt Guild - ECPv6.15.20//NONSGML v1.0//EN
CALSCALE:GREGORIAN
METHOD:PUBLISH
X-ORIGINAL-URL:https://kcmqg.com
X-WR-CALDESC:Events for The Kansas City Modern Quilt Guild
REFRESH-INTERVAL;VALUE=DURATION:PT1H
X-Robots-Tag:noindex
X-PUBLISHED-TTL:PT1H
BEGIN:VTIMEZONE
TZID:America/Chicago
BEGIN:DAYLIGHT
TZOFFSETFROM:-0600
TZOFFSETTO:-0500
TZNAME:CDT
DTSTART:20190310T080000
END:DAYLIGHT
BEGIN:STANDARD
TZOFFSETFROM:-0500
TZOFFSETTO:-0600
TZNAME:CST
DTSTART:20191103T070000
END:STANDARD
BEGIN:DAYLIGHT
TZOFFSETFROM:-0600
TZOFFSETTO:-0500
TZNAME:CDT
DTSTART:20200308T080000
END:DAYLIGHT
BEGIN:STANDARD
TZOFFSETFROM:-0500
TZOFFSETTO:-0600
TZNAME:CST
DTSTART:20201101T070000
END:STANDARD
BEGIN:DAYLIGHT
TZOFFSETFROM:-0600
TZOFFSETTO:-0500
TZNAME:CDT
DTSTART:20210314T080000
END:DAYLIGHT
BEGIN:STANDARD
TZOFFSETFROM:-0500
TZOFFSETTO:-0600
TZNAME:CST
DTSTART:20211107T070000
END:STANDARD
BEGIN:DAYLIGHT
TZOFFSETFROM:-0600
TZOFFSETTO:-0500
TZNAME:CDT
DTSTART:20220313T080000
END:DAYLIGHT
BEGIN:STANDARD
TZOFFSETFROM:-0500
TZOFFSETTO:-0600
TZNAME:CST
DTSTART:20221106T070000
END:STANDARD
BEGIN:DAYLIGHT
TZOFFSETFROM:-0600
TZOFFSETTO:-0500
TZNAME:CDT
DTSTART:20230312T080000
END:DAYLIGHT
BEGIN:STANDARD
TZOFFSETFROM:-0500
TZOFFSETTO:-0600
TZNAME:CST
DTSTART:20231105T070000
END:STANDARD
BEGIN:DAYLIGHT
TZOFFSETFROM:-0600
TZOFFSETTO:-0500
TZNAME:CDT
DTSTART:20240310T080000
END:DAYLIGHT
BEGIN:STANDARD
TZOFFSETFROM:-0500
TZOFFSETTO:-0600
TZNAME:CST
DTSTART:20241103T070000
END:STANDARD
BEGIN:DAYLIGHT
TZOFFSETFROM:-0600
TZOFFSETTO:-0500
TZNAME:CDT
DTSTART:20250309T080000
END:DAYLIGHT
BEGIN:STANDARD
TZOFFSETFROM:-0500
TZOFFSETTO:-0600
TZNAME:CST
DTSTART:20251102T070000
END:STANDARD
BEGIN:DAYLIGHT
TZOFFSETFROM:-0600
TZOFFSETTO:-0500
TZNAME:CDT
DTSTART:20260308T080000
END:DAYLIGHT
BEGIN:STANDARD
TZOFFSETFROM:-0500
TZOFFSETTO:-0600
TZNAME:CST
DTSTART:20261101T070000
END:STANDARD
END:VTIMEZONE
BEGIN:VEVENT
DTSTART;TZID=America/Chicago:20250319T090000
DTEND;TZID=America/Chicago:20250319T130000
DTSTAMP:20260420T092321
CREATED:20250116T144110Z
LAST-MODIFIED:20250116T144543Z
UID:14723-1742374800-1742389200@kcmqg.com
SUMMARY:Schoolhouse: Gel Printing on Fabric with Cyndi Kuhn
DESCRIPTION:Workshop open to members of KCMQG and BVQG\nCost: FREE to take class – you must purchase supplies in advance (document attached to this newsletter)\nDate: Wednesday\, March 19th\nTime: 9am-1pm\nWhere: Village on Antioch Church\n14895 Antioch Road\,\nOverland Park\, KS 66221\nLimited Space Signs-ups will open in January –  click here to sign up! \nPrinting your own fabric designs opens up an entire new world\, especially for quilters\n& sewists. Until now\, the process of printing on fabric with dyes seemed difficult to\nlearn and even harder to implement and required lots of “stuff.” But that is not the case anymore. You don’t have to be an “ARTIST” to be successful. This is all about\nplay and experimenting\, the process of letting go. Gel printing is fun and a bit\naddicting!! You will create an astonishing array of designs\, simply and safely\, using\ntextile paints and a variety of techniques. \nGel printing on fabric uses a gelatin plate to press an image onto fabric. We will begin\nwith paper and then move to fabric. So you will be able to create your own unique\nfabric art and more.
URL:https://kcmqg.com/event/schoolhouse-gel-printing-on-fabric-with-cyndi-kuhn/
LOCATION:Village on Antioch Church\, 14895 Antioch Road\, Overland Park\, KS\, 66221\, United States
CATEGORIES:Schoolhouses
ATTACH;FMTTYPE=image/jpeg:https://kcmqg.com/wp-content/uploads/2025/01/gelpainting.jpg
END:VEVENT
BEGIN:VEVENT
DTSTART;TZID=America/Chicago:20240622T090000
DTEND;TZID=America/Chicago:20240622T160000
DTSTAMP:20260420T092321
CREATED:20240617T150252Z
LAST-MODIFIED:20240617T150327Z
UID:13854-1719046800-1719072000@kcmqg.com
SUMMARY:Double the Fun Schoolhouse
DESCRIPTION:Date: Saturday June 22\, 2024\n9:00 a.m. to 12:00 p.m. – Perle Cotton Hand Stitching with Stephanie Dodson & Rosie Frey\n1:00 p.m. to 4:00 p.m. – Hand Applique – Little Astra Block with Tia Curtis\nLocation: Blue Valley Library Classroom\, 9000 W 151st St\, Overland Park\, KS 66221\nCost:  $12 per class or $20 for both *** If you would like to take both classes\, add both to your cart\, then use coupon code doublefun2024 on the cart page to drop the price to $20. \nYou can click here for more info and to sign up!
URL:https://kcmqg.com/event/double-the-fun-schoolhouse/
LOCATION:Blue Valley Library\, 9000 W 151st St\, Overland Park\, KS\, 66221\, United States
CATEGORIES:Schoolhouses
ATTACH;FMTTYPE=image/png:https://kcmqg.com/wp-content/uploads/2024/04/bigstitch.png
END:VEVENT
BEGIN:VEVENT
DTSTART;TZID=America/Chicago:20231014T090000
DTEND;TZID=America/Chicago:20231014T160000
DTSTAMP:20260420T092321
CREATED:20230213T195907Z
LAST-MODIFIED:20230213T195907Z
UID:11595-1697274000-1697299200@kcmqg.com
SUMMARY:October 2023 Schoolhouse: Binding Techniques
DESCRIPTION:This is a placeholder and additional information about this workshop will be added ASAP.  \nThe time for this event is still TBD; the time listed in the event details is a placeholder and will be updated ASAP.
URL:https://kcmqg.com/event/october-2023-schoolhouse-binding-techniques/
LOCATION:The Fabric Chic\, 170 English Landing Dr #111\, Parkville\, MO\, 64152\, United States
CATEGORIES:Schoolhouses
END:VEVENT
BEGIN:VEVENT
DTSTART;TZID=America/Chicago:20230708T090000
DTEND;TZID=America/Chicago:20230708T130000
DTSTAMP:20260420T092321
CREATED:20230213T192451Z
LAST-MODIFIED:20230628T190547Z
UID:11581-1688806800-1688821200@kcmqg.com
SUMMARY:July 2023 Schoolhouse: English Paper Piecing
DESCRIPTION:The July Schoolhouse and Sew Day is English Paper Piecing at The Fabric Chic on July 8 from 9 am to 1pm.  If you enjoy this technique bring your current project to work on and a finished project to share.  If want to learn more about this portable meditative method bring a thimble  and we will walk you through a simple project. Everything else you need will be provided.  This is a great technique  for traveling\, waiting for whatever\, or when watching television. It’s revival has been inspired by many quilters including Tula Pink. Please plan to join us for a fun day. \nIf you would like to sign up\, you can click here to visit the KCMQG shop.
URL:https://kcmqg.com/event/july-2023-schoolhouse-english-paper-piecing/
LOCATION:The Fabric Chic\, 170 English Landing Dr #111\, Parkville\, MO\, 64152\, United States
CATEGORIES:Schoolhouses
ATTACH;FMTTYPE=image/jpeg:https://kcmqg.com/wp-content/uploads/2023/02/Hexies-scaled-1.jpg
END:VEVENT
BEGIN:VEVENT
DTSTART;TZID=America/Chicago:20230421T090000
DTEND;TZID=America/Chicago:20230421T120000
DTSTAMP:20260420T092321
CREATED:20230213T185601Z
LAST-MODIFIED:20230213T185601Z
UID:11563-1682067600-1682078400@kcmqg.com
SUMMARY:April 2023 Schoolhouse: Joanie Hail - Sew Kind of Wonderful Rulers
DESCRIPTION:It’s time for the 1st Schoolhouse for 2023. \nJoin Joanie Hail at the Fabric Chic on Friday April 21st from 9-noon and learn how to use one of the rulers from Sew Kind of Wonderful.  Pick your ruler when you sign up and you will get a link for the free pdf pattern for that ruler. Each pattern provides a simple block that you can turn into a table runner\, pillow or a quilt. \nYou have 4 options: \nQCR – Quick Curve Ruler \nQCR Mini – Quick Curve Ruler Mini \nWCR – Wonder Curve Ruler \nQSR – Quick Straight Ruler
URL:https://kcmqg.com/event/april-2023-schoolhouse-joanie-hail-sew-kind-of-wonderful-rulers/
LOCATION:The Fabric Chic\, 170 English Landing Dr #111\, Parkville\, MO\, 64152\, United States
CATEGORIES:Schoolhouses
END:VEVENT
BEGIN:VEVENT
DTSTART;TZID=America/Chicago:20220625T093000
DTEND;TZID=America/Chicago:20220625T133000
DTSTAMP:20260420T092321
CREATED:20220420T212224Z
LAST-MODIFIED:20220420T212224Z
UID:9699-1656149400-1656163800@kcmqg.com
SUMMARY:June 2022 Schoolhouse: Paper Piecing/FPP Schoolhouse with Sammie Messick
DESCRIPTION:Learn precision paper piecing and freezer paper piecing with Sammie Messick in KCMQG’s 3rd Schoolhouse of the year. Sammie will teach both techniques so you can choose when you want to use either of these methods. You’ll be using a free pattern from Wombat Quilts called Twisting Star. You’ll have time to make more than one star that you may turn into a pillow\, table runner or small quilt. \nWhen: June 25\, 2022 from 9:30am–1:30pm \nPlace: The Fabric Chic\, 170 English Landing Dr\, Suite 111\, Parkville\, MO 64152 \nCost: $20\, limited to 20 participants
URL:https://kcmqg.com/event/june-2022-schoolhouse-paper-piecing-fpp-schoolhouse-with-sammie-messick/
LOCATION:The Fabric Chic\, 170 English Landing Dr #111\, Parkville\, MO\, 64152\, United States
CATEGORIES:Schoolhouses
ATTACH;FMTTYPE=image/png:https://kcmqg.com/wp-content/uploads/2022/04/Screen-Shot-2022-04-18-at-5.51.05-PM.png
END:VEVENT
BEGIN:VEVENT
DTSTART;TZID=America/Chicago:20220409T090000
DTEND;TZID=America/Chicago:20220409T120000
DTSTAMP:20260420T092321
CREATED:20220216T173248Z
LAST-MODIFIED:20220216T173248Z
UID:9364-1649494800-1649505600@kcmqg.com
SUMMARY:April 2022 Schoolhouse: Quilted Postcards with Nikki Woolsey
DESCRIPTION:Signups begin February 19th \nKCMQG member Nikki Woolsey has been twice published in Curated Quilts magazine and has a quilt juried into the Mid-Atlantic Quilt Festival in Hampton\, Virginia. \nNikki designs her own intricate quilts and combines improv and paper pieced construction. In addition\, her longarm quilting is pushing new\, modern surface motifs. \nAlong with design\, Nikki’s primary focus is on building community. For her\, the postcard is a way to get together and build relationships\, while playing with fabric.
URL:https://kcmqg.com/event/april-2022-schoolhouse-quilted-postcards-with-nikki-woolsey/
LOCATION:KC Maker Studio\, 5327 Johnson Drive\, Mission\, KS\, 66205\, United States
CATEGORIES:Schoolhouses
ATTACH;FMTTYPE=image/jpeg:https://kcmqg.com/wp-content/uploads/2022/02/image0.jpeg
END:VEVENT
BEGIN:VEVENT
DTSTART;TZID=America/Chicago:20200111T103000
DTEND;TZID=America/Chicago:20200111T143000
DTSTAMP:20260420T092321
CREATED:20191115T230614Z
LAST-MODIFIED:20191121T142619Z
UID:3557-1578738600-1578753000@kcmqg.com
SUMMARY:Schoolhouse: Zippered Project Pouch
DESCRIPTION:Note: This is a members-only event. If you haven’t joined\, what are you waiting for? Click here for info. \nDate: January 11\, 2020\nTime: 10:30 AM – 2:30 PM. If anyone would like make additional pouches or sew on other projects\, we can stay until 4:00 \nLocation\nThe Fabric Chic\n170 English Landing Dr\nParkville\, MO 64152 \nThis custom pouch can be made from a vintage\, or modern dish towel or other kitchen linens. Or use any interesting fabric from quilting cotton (great for featuring a large print motif) cotton canvas\, cotton/linen blends or home decor fabric. Most dish towels are 16″ – 20″ wide and can make a pouch that is 12″ – 14″ tall. You can make a larger or smaller project\, depending on the fabric you wish to feature. \nYou will need: \n\nA dish towel or other textile to be used for the front and back of your pouch. You will need two pieces of equal size\, so a towel that is cut in half or a towel with coordinating fabric for the back. If you are using other fabric\, a half yard or two fat quarters that coordinate will be sufficient.\nYou will need a coordinating fabric for binding the zippers and the circumference of the pouch\, OR a coordinating color of extra wide\, double fold bias tape (.5″). You will need about 2 to 2.5 yards of two inch wide binding\, so one 3 yard package of bias tape or a fat quarter of coordinating fabric will be enough. I will have two bias tape making machines at the workshop which we can use to quickly make the bias tape (without burning fingers!) If you would like to prepare in advance\, cut 2″ bias strips of fabric and join them to make one piece 2″ wide by 2.5 yards long.\nA zipper that is wider than the width of your towel (or desired project width). Please select nylon teeth zipper (not metal) – a 22″ garment zipper is great\, a purse or handbag zipper works fine\, as well. Nylon zippers can easily be cut to size\, if a smaller size is needed.\nYour sewing machine and general sewing notions.\nA walking foot can be very helpful\, as well as a zipper foot.\nA ruler that is at least 18″ long.\nWonder tape is also very handy for installing the zipper.\n\nYour class fee will include vinyl and decor bond. If you wish to make more pouches\, these supplies are available for purchase at the Fabric Chic. \nEach participant will receive: \n\n1/2 yard of Decor Bond (Pellon 809) a 1/2 yard – enough for one average size pouch or possibly two smaller ones.\n1/2 yard of 12 gauge clear vinyl – a half yard of 58″ vinyl will make several pouches – for one pouch\, you need a piece as large as your finished project – about 16″ x 15″.\n\nThe Fabric Chic has a variety of zipper colors as well as vinyl and decor bond. \nClick here to register!
URL:https://kcmqg.com/event/schoolhouse-zippered-project-pouch/
LOCATION:The Fabric Chic\, 170 English Landing Dr #111\, Parkville\, MO\, 64152\, United States
CATEGORIES:Schoolhouses
ATTACH;FMTTYPE=image/jpeg:https://kcmqg.com/wp-content/uploads/2019/11/IMG_4804.jpg
END:VEVENT
END:VCALENDAR