BEGIN:VCALENDAR
VERSION:2.0
PRODID:-//The Kansas City Modern Quilt Guild - ECPv6.15.20//NONSGML v1.0//EN
CALSCALE:GREGORIAN
METHOD:PUBLISH
X-ORIGINAL-URL:https://kcmqg.com
X-WR-CALDESC:Events for The Kansas City Modern Quilt Guild
REFRESH-INTERVAL;VALUE=DURATION:PT1H
X-Robots-Tag:noindex
X-PUBLISHED-TTL:PT1H
BEGIN:VTIMEZONE
TZID:America/Chicago
BEGIN:DAYLIGHT
TZOFFSETFROM:-0600
TZOFFSETTO:-0500
TZNAME:CDT
DTSTART:20230312T080000
END:DAYLIGHT
BEGIN:STANDARD
TZOFFSETFROM:-0500
TZOFFSETTO:-0600
TZNAME:CST
DTSTART:20231105T070000
END:STANDARD
BEGIN:DAYLIGHT
TZOFFSETFROM:-0600
TZOFFSETTO:-0500
TZNAME:CDT
DTSTART:20240310T080000
END:DAYLIGHT
BEGIN:STANDARD
TZOFFSETFROM:-0500
TZOFFSETTO:-0600
TZNAME:CST
DTSTART:20241103T070000
END:STANDARD
BEGIN:DAYLIGHT
TZOFFSETFROM:-0600
TZOFFSETTO:-0500
TZNAME:CDT
DTSTART:20250309T080000
END:DAYLIGHT
BEGIN:STANDARD
TZOFFSETFROM:-0500
TZOFFSETTO:-0600
TZNAME:CST
DTSTART:20251102T070000
END:STANDARD
END:VTIMEZONE
BEGIN:VEVENT
DTSTART;TZID=America/Chicago:20241012T093000
DTEND;TZID=America/Chicago:20241012T153000
DTSTAMP:20260421T102718
CREATED:20231106T192324Z
LAST-MODIFIED:20240717T231341Z
UID:12570-1728725400-1728747000@kcmqg.com
SUMMARY:October 2024 Workshop: StarQuar with Diane Harris
DESCRIPTION:StarQuar Workshop! \nWe asked\, you voted! The Star Quar workshop is an opportunity to learn all the scrappy happy tips and tricks you’ve been wanting to know. Diane Harris\, the Stash Bandit\, will lead us through the discovery of scraps and how to make them work together to create a beautiful scrappy quilt. She’ll talk about all the things you need to consider as you work with scraps and you’ll leave motivated to create an amazing scrappy masterpiece. The Star Quar block is simple in its construction and mighty in its versatility providing you with a beautiful but easy to master block that can lay out in MANY different configurations. Join us for a day of colorful blocks and learning that will influence your quilting for years to come. \nSaturday\, October 12 9:30-3:30 \nKC Maker Studio \nClass Fee $50 with 20 seats available
URL:https://kcmqg.com/event/october-2024-workshop/
LOCATION:KC Maker Studio\, 5327 Johnson Drive\, Mission\, KS\, 66205\, United States
CATEGORIES:Workshops
ATTACH;FMTTYPE=image/jpeg:https://kcmqg.com/wp-content/uploads/2024/07/StarQuar.jpg
END:VEVENT
END:VCALENDAR