BEGIN:VCALENDAR
VERSION:2.0
PRODID:-//The Kansas City Modern Quilt Guild - ECPv6.15.20//NONSGML v1.0//EN
CALSCALE:GREGORIAN
METHOD:PUBLISH
X-WR-CALNAME:The Kansas City Modern Quilt Guild
X-ORIGINAL-URL:https://kcmqg.com
X-WR-CALDESC:Events for The Kansas City Modern Quilt Guild
REFRESH-INTERVAL;VALUE=DURATION:PT1H
X-Robots-Tag:noindex
X-PUBLISHED-TTL:PT1H
BEGIN:VTIMEZONE
TZID:America/Chicago
BEGIN:DAYLIGHT
TZOFFSETFROM:-0600
TZOFFSETTO:-0500
TZNAME:CDT
DTSTART:20240310T080000
END:DAYLIGHT
BEGIN:STANDARD
TZOFFSETFROM:-0500
TZOFFSETTO:-0600
TZNAME:CST
DTSTART:20241103T070000
END:STANDARD
BEGIN:DAYLIGHT
TZOFFSETFROM:-0600
TZOFFSETTO:-0500
TZNAME:CDT
DTSTART:20250309T080000
END:DAYLIGHT
BEGIN:STANDARD
TZOFFSETFROM:-0500
TZOFFSETTO:-0600
TZNAME:CST
DTSTART:20251102T070000
END:STANDARD
BEGIN:DAYLIGHT
TZOFFSETFROM:-0600
TZOFFSETTO:-0500
TZNAME:CDT
DTSTART:20260308T080000
END:DAYLIGHT
BEGIN:STANDARD
TZOFFSETFROM:-0500
TZOFFSETTO:-0600
TZNAME:CST
DTSTART:20261101T070000
END:STANDARD
END:VTIMEZONE
BEGIN:VEVENT
DTSTART;TZID=America/Chicago:20251011T100000
DTEND;TZID=America/Chicago:20251011T160000
DTSTAMP:20260420T163439
CREATED:20250714T130954Z
LAST-MODIFIED:20250714T130954Z
UID:15252-1760176800-1760198400@kcmqg.com
SUMMARY:Workshop: Ashelyn Downs - Minimal Improv
DESCRIPTION:Advanced Beginner-Intermediate piecing skills are a prerequisite. In this full-day workshop\, you’ll learn tips and strategies to create successful projects and learn the\nprocess of piecing with purpose while using intentional fabric choices instead of scraps\, commonly reserved for improv quilting. Get inspired by your fiber selections and let the art of improv quilting lead you to make your one-of-a-kind throw-size quilt. \nSign ups open on July 19th @ 9am – you can sign up here.
URL:https://kcmqg.com/event/workshop-ashelyn-downs-minimal-improv/
LOCATION:KC Maker Studio\, 5327 Johnson Drive\, Mission\, KS\, 66205\, United States
CATEGORIES:Workshops
ATTACH;FMTTYPE=image/jpeg:https://kcmqg.com/wp-content/uploads/2025/07/Ashelyn-Downs-improc.jpg
END:VEVENT
END:VCALENDAR