BEGIN:VCALENDAR
VERSION:2.0
PRODID:-//The Kansas City Modern Quilt Guild - ECPv6.15.20//NONSGML v1.0//EN
CALSCALE:GREGORIAN
METHOD:PUBLISH
X-ORIGINAL-URL:https://kcmqg.com
X-WR-CALDESC:Events for The Kansas City Modern Quilt Guild
REFRESH-INTERVAL;VALUE=DURATION:PT1H
X-Robots-Tag:noindex
X-PUBLISHED-TTL:PT1H
BEGIN:VTIMEZONE
TZID:America/Chicago
BEGIN:DAYLIGHT
TZOFFSETFROM:-0600
TZOFFSETTO:-0500
TZNAME:CDT
DTSTART:20250309T080000
END:DAYLIGHT
BEGIN:STANDARD
TZOFFSETFROM:-0500
TZOFFSETTO:-0600
TZNAME:CST
DTSTART:20251102T070000
END:STANDARD
BEGIN:DAYLIGHT
TZOFFSETFROM:-0600
TZOFFSETTO:-0500
TZNAME:CDT
DTSTART:20260308T080000
END:DAYLIGHT
BEGIN:STANDARD
TZOFFSETFROM:-0500
TZOFFSETTO:-0600
TZNAME:CST
DTSTART:20261101T070000
END:STANDARD
BEGIN:DAYLIGHT
TZOFFSETFROM:-0600
TZOFFSETTO:-0500
TZNAME:CDT
DTSTART:20270314T080000
END:DAYLIGHT
BEGIN:STANDARD
TZOFFSETFROM:-0500
TZOFFSETTO:-0600
TZNAME:CST
DTSTART:20271107T070000
END:STANDARD
END:VTIMEZONE
BEGIN:VEVENT
DTSTART;TZID=America/Chicago:20260314T090000
DTEND;TZID=America/Chicago:20260314T120000
DTSTAMP:20260420T094416
CREATED:20260104T005957Z
LAST-MODIFIED:20260104T010118Z
UID:16841-1773478800-1773489600@kcmqg.com
SUMMARY:Design A Quilt Roundtable: Quilt Design Ideas
DESCRIPTION:As part of our Design a Quilt Series\, you are invited to share your ideas and discuss them with your peers in a round table format. We will be gathering on the Saturday after guild to talk about and workshop our own ideas around designing a quilt. At this event we will discuss if we want future events to be held on Zoom or in person\, and if we would like to break into smaller groups to work together throughout the year. This is a free event.  \nPlease register using the link in the most recent newsletter so that we can plan our setup accordingly.
URL:https://kcmqg.com/event/design-a-quilt-roundtable-quilt-design-ideas/
LOCATION:Merriam Plaza Library\, 6120 Slater St.\, Merriam\, KS\, 66202\, United States
CATEGORIES:Workshops
END:VEVENT
END:VCALENDAR