BEGIN:VCALENDAR
VERSION:2.0
PRODID:-//The Kansas City Modern Quilt Guild - ECPv6.15.20//NONSGML v1.0//EN
CALSCALE:GREGORIAN
METHOD:PUBLISH
X-WR-CALNAME:The Kansas City Modern Quilt Guild
X-ORIGINAL-URL:https://kcmqg.com
X-WR-CALDESC:Events for The Kansas City Modern Quilt Guild
REFRESH-INTERVAL;VALUE=DURATION:PT1H
X-Robots-Tag:noindex
X-PUBLISHED-TTL:PT1H
BEGIN:VTIMEZONE
TZID:America/Chicago
BEGIN:DAYLIGHT
TZOFFSETFROM:-0600
TZOFFSETTO:-0500
TZNAME:CDT
DTSTART:20250309T080000
END:DAYLIGHT
BEGIN:STANDARD
TZOFFSETFROM:-0500
TZOFFSETTO:-0600
TZNAME:CST
DTSTART:20251102T070000
END:STANDARD
BEGIN:DAYLIGHT
TZOFFSETFROM:-0600
TZOFFSETTO:-0500
TZNAME:CDT
DTSTART:20260308T080000
END:DAYLIGHT
BEGIN:STANDARD
TZOFFSETFROM:-0500
TZOFFSETTO:-0600
TZNAME:CST
DTSTART:20261101T070000
END:STANDARD
BEGIN:DAYLIGHT
TZOFFSETFROM:-0600
TZOFFSETTO:-0500
TZNAME:CDT
DTSTART:20270314T080000
END:DAYLIGHT
BEGIN:STANDARD
TZOFFSETFROM:-0500
TZOFFSETTO:-0600
TZNAME:CST
DTSTART:20271107T070000
END:STANDARD
END:VTIMEZONE
BEGIN:VEVENT
DTSTART;TZID=America/Chicago:20260815T100000
DTEND;TZID=America/Chicago:20260815T160000
DTSTAMP:20260420T133525
CREATED:20260104T013932Z
LAST-MODIFIED:20260413T214810Z
UID:16911-1786788000-1786809600@kcmqg.com
SUMMARY:Workshop: Concentric Circles with Maday Delgado
DESCRIPTION:Member Price: $75.00\nMaximum of 15 participants \nMaday has taught curvy sewing for many years in workshops and to guilds throughout the US. This year she is sharing her passion for concentric or nested circles. She will share tips\, tricks and favorite tools for sewing these circles with ease and accuracy\, to add dynamism and flair to any of your future projects.  \nPlease note! You need to sign up for this class by April 30th so Maday is able to bring the correct number of rulers. The supply list is available on the product page. \nAfter purchasing your spot in the workshop\, you will need to purchase the ruler from Maday’s website. Maday will close ruler orders on April 30th. \nClick here to sign up!
URL:https://kcmqg.com/event/workshop-circles-with-maday-delgado/
LOCATION:KC Maker Studio\, 5327 Johnson Drive\, Mission\, KS\, 66205\, United States
CATEGORIES:Workshops
ATTACH;FMTTYPE=image/jpeg:https://kcmqg.com/wp-content/uploads/2026/03/Maday-Concentric-Circles.jpg
END:VEVENT
END:VCALENDAR